BEGIN:VCALENDAR
VERSION:2.0
PRODID:-//Prairie Winds Event Center - ECPv6.15.20//NONSGML v1.0//EN
CALSCALE:GREGORIAN
METHOD:PUBLISH
X-ORIGINAL-URL:https://prairiewindseventcenter.com
X-WR-CALDESC:Events for Prairie Winds Event Center
REFRESH-INTERVAL;VALUE=DURATION:PT1H
X-Robots-Tag:noindex
X-PUBLISHED-TTL:PT1H
BEGIN:VTIMEZONE
TZID:America/Chicago
BEGIN:DAYLIGHT
TZOFFSETFROM:-0600
TZOFFSETTO:-0500
TZNAME:CDT
DTSTART:20260308T080000
END:DAYLIGHT
BEGIN:STANDARD
TZOFFSETFROM:-0500
TZOFFSETTO:-0600
TZNAME:CST
DTSTART:20261101T070000
END:STANDARD
BEGIN:DAYLIGHT
TZOFFSETFROM:-0600
TZOFFSETTO:-0500
TZNAME:CDT
DTSTART:20270314T080000
END:DAYLIGHT
BEGIN:STANDARD
TZOFFSETFROM:-0500
TZOFFSETTO:-0600
TZNAME:CST
DTSTART:20271107T070000
END:STANDARD
BEGIN:DAYLIGHT
TZOFFSETFROM:-0600
TZOFFSETTO:-0500
TZNAME:CDT
DTSTART:20280312T080000
END:DAYLIGHT
BEGIN:STANDARD
TZOFFSETFROM:-0500
TZOFFSETTO:-0600
TZNAME:CST
DTSTART:20281105T070000
END:STANDARD
END:VTIMEZONE
BEGIN:VEVENT
DTSTART;VALUE=DATE:20270101
DTEND;VALUE=DATE:20270102
DTSTAMP:20260424T051807
CREATED:20250128T203003Z
LAST-MODIFIED:20250128T203003Z
UID:8382-1798761600-1798847999@prairiewindseventcenter.com
SUMMARY:Date Unavailable
DESCRIPTION:
URL:https://prairiewindseventcenter.com/event/date-unavailable-59/
END:VEVENT
BEGIN:VEVENT
DTSTART;VALUE=DATE:20270103
DTEND;VALUE=DATE:20270104
DTSTAMP:20260424T051807
CREATED:20250625T194822Z
LAST-MODIFIED:20250625T194822Z
UID:8677-1798934400-1799020799@prairiewindseventcenter.com
SUMMARY:Holiday Pricing
DESCRIPTION:
URL:https://prairiewindseventcenter.com/event/holiday-pricing-137/
LOCATION:Prairie Winds Event Center
END:VEVENT
BEGIN:VEVENT
DTSTART;VALUE=DATE:20270106
DTEND;VALUE=DATE:20270107
DTSTAMP:20260424T051807
CREATED:20260415T174317Z
LAST-MODIFIED:20260415T174317Z
UID:9656-1799193600-1799279999@prairiewindseventcenter.com
SUMMARY:Farmers Mutual Hail Spring Update Training
DESCRIPTION:
URL:https://prairiewindseventcenter.com/event/farmers-mutual-hail-spring-update-training-2/
LOCATION:Prairie Winds Event Center\, 908 8th Street SE\, Orange City\, IA\, 51041\, United States
CATEGORIES:Business & Corporate
END:VEVENT
BEGIN:VEVENT
DTSTART;VALUE=DATE:20270110
DTEND;VALUE=DATE:20270111
DTSTAMP:20260424T051807
CREATED:20250625T194846Z
LAST-MODIFIED:20250625T194846Z
UID:8680-1799539200-1799625599@prairiewindseventcenter.com
SUMMARY:Holiday Pricing
DESCRIPTION:
URL:https://prairiewindseventcenter.com/event/holiday-pricing-138/
LOCATION:Prairie Winds Event Center
END:VEVENT
BEGIN:VEVENT
DTSTART;VALUE=DATE:20270117
DTEND;VALUE=DATE:20270118
DTSTAMP:20260424T051807
CREATED:20250625T194908Z
LAST-MODIFIED:20250625T194908Z
UID:8683-1800144000-1800230399@prairiewindseventcenter.com
SUMMARY:Holiday Pricing
DESCRIPTION:
URL:https://prairiewindseventcenter.com/event/holiday-pricing-139/
LOCATION:Prairie Winds Event Center
END:VEVENT
BEGIN:VEVENT
DTSTART;VALUE=DATE:20270118
DTEND;VALUE=DATE:20270201
DTSTAMP:20260424T051807
CREATED:20250312T140146Z
LAST-MODIFIED:20260310T191413Z
UID:8439-1800230400-1801439999@prairiewindseventcenter.com
SUMMARY:CLOSED FOR BUILDING REPAIRS
DESCRIPTION:
URL:https://prairiewindseventcenter.com/event/closed-for-building-repairs/
END:VEVENT
BEGIN:VEVENT
DTSTART;VALUE=DATE:20270124
DTEND;VALUE=DATE:20270125
DTSTAMP:20260424T051807
CREATED:20250625T194929Z
LAST-MODIFIED:20250625T194929Z
UID:8686-1800748800-1800835199@prairiewindseventcenter.com
SUMMARY:Holiday Pricing
DESCRIPTION:
URL:https://prairiewindseventcenter.com/event/holiday-pricing-140/
LOCATION:Prairie Winds Event Center
END:VEVENT
BEGIN:VEVENT
DTSTART;VALUE=DATE:20270131
DTEND;VALUE=DATE:20270201
DTSTAMP:20260424T051807
CREATED:20250625T195001Z
LAST-MODIFIED:20250625T195001Z
UID:8689-1801353600-1801439999@prairiewindseventcenter.com
SUMMARY:Holiday Pricing
DESCRIPTION:
URL:https://prairiewindseventcenter.com/event/holiday-pricing-141/
LOCATION:Prairie Winds Event Center
END:VEVENT
END:VCALENDAR