BEGIN:VCALENDAR
VERSION:2.0
PRODID:-//Prairie Winds Event Center - ECPv6.15.20//NONSGML v1.0//EN
CALSCALE:GREGORIAN
METHOD:PUBLISH
X-ORIGINAL-URL:https://prairiewindseventcenter.com
X-WR-CALDESC:Events for Prairie Winds Event Center
REFRESH-INTERVAL;VALUE=DURATION:PT1H
X-Robots-Tag:noindex
X-PUBLISHED-TTL:PT1H
BEGIN:VTIMEZONE
TZID:America/Chicago
BEGIN:DAYLIGHT
TZOFFSETFROM:-0600
TZOFFSETTO:-0500
TZNAME:CDT
DTSTART:20250309T080000
END:DAYLIGHT
BEGIN:STANDARD
TZOFFSETFROM:-0500
TZOFFSETTO:-0600
TZNAME:CST
DTSTART:20251102T070000
END:STANDARD
BEGIN:DAYLIGHT
TZOFFSETFROM:-0600
TZOFFSETTO:-0500
TZNAME:CDT
DTSTART:20260308T080000
END:DAYLIGHT
BEGIN:STANDARD
TZOFFSETFROM:-0500
TZOFFSETTO:-0600
TZNAME:CST
DTSTART:20261101T070000
END:STANDARD
BEGIN:DAYLIGHT
TZOFFSETFROM:-0600
TZOFFSETTO:-0500
TZNAME:CDT
DTSTART:20270314T080000
END:DAYLIGHT
BEGIN:STANDARD
TZOFFSETFROM:-0500
TZOFFSETTO:-0600
TZNAME:CST
DTSTART:20271107T070000
END:STANDARD
END:VTIMEZONE
BEGIN:VEVENT
DTSTART;VALUE=DATE:20260904
DTEND;VALUE=DATE:20260905
DTSTAMP:20260419T175647
CREATED:20250128T200627Z
LAST-MODIFIED:20250128T200627Z
UID:8307-1788480000-1788566399@prairiewindseventcenter.com
SUMMARY:Holiday Pricing
DESCRIPTION:
URL:https://prairiewindseventcenter.com/event/holiday-pricing-110/
END:VEVENT
BEGIN:VEVENT
DTSTART;VALUE=DATE:20260905
DTEND;VALUE=DATE:20260906
DTSTAMP:20260419T175647
CREATED:20250128T200650Z
LAST-MODIFIED:20250128T200650Z
UID:8310-1788566400-1788652799@prairiewindseventcenter.com
SUMMARY:Holiday Pricing
DESCRIPTION:
URL:https://prairiewindseventcenter.com/event/holiday-pricing-111/
END:VEVENT
BEGIN:VEVENT
DTSTART;VALUE=DATE:20260906
DTEND;VALUE=DATE:20260907
DTSTAMP:20260419T175647
CREATED:20250128T200704Z
LAST-MODIFIED:20250128T200704Z
UID:8313-1788652800-1788739199@prairiewindseventcenter.com
SUMMARY:Holiday Pricing
DESCRIPTION:
URL:https://prairiewindseventcenter.com/event/holiday-pricing-112/
END:VEVENT
BEGIN:VEVENT
DTSTART;VALUE=DATE:20260907
DTEND;VALUE=DATE:20260908
DTSTAMP:20260419T175647
CREATED:20241226T173407Z
LAST-MODIFIED:20241226T173407Z
UID:8087-1788739200-1788825599@prairiewindseventcenter.com
SUMMARY:Date Unavailable
DESCRIPTION:
URL:https://prairiewindseventcenter.com/event/date-unavailable-52/
LOCATION:Prairie Winds Event Center
END:VEVENT
BEGIN:VEVENT
DTSTART;VALUE=DATE:20260911
DTEND;VALUE=DATE:20260912
DTSTAMP:20260419T175647
CREATED:20250603T161546Z
LAST-MODIFIED:20250603T161546Z
UID:8639-1789084800-1789171199@prairiewindseventcenter.com
SUMMARY:Pizza Ranch Staff Meeting
DESCRIPTION:
URL:https://prairiewindseventcenter.com/event/pizza-ranch-staff-meeting-6/
LOCATION:Prairie Winds Event Center
CATEGORIES:Business & Corporate
END:VEVENT
BEGIN:VEVENT
DTSTART;VALUE=DATE:20260912
DTEND;VALUE=DATE:20260913
DTSTAMP:20260419T175647
CREATED:20250218T214329Z
LAST-MODIFIED:20250218T214329Z
UID:8418-1789171200-1789257599@prairiewindseventcenter.com
SUMMARY:Herzog & Van Beek Ceremony/Reception
DESCRIPTION:
URL:https://prairiewindseventcenter.com/event/herzog-van-beek-ceremony-reception/
LOCATION:Prairie Winds Event Center
CATEGORIES:Weddings & Celebrations
END:VEVENT
BEGIN:VEVENT
DTSTART;VALUE=DATE:20260913
DTEND;VALUE=DATE:20260914
DTSTAMP:20260419T175647
CREATED:20250128T200724Z
LAST-MODIFIED:20250128T200724Z
UID:8316-1789257600-1789343999@prairiewindseventcenter.com
SUMMARY:Holiday Pricing
DESCRIPTION:
URL:https://prairiewindseventcenter.com/event/holiday-pricing-113/
END:VEVENT
BEGIN:VEVENT
DTSTART;VALUE=DATE:20260918
DTEND;VALUE=DATE:20260919
DTSTAMP:20260419T175647
CREATED:20260310T153852Z
LAST-MODIFIED:20260310T153852Z
UID:9604-1789689600-1789775999@prairiewindseventcenter.com
SUMMARY:Johnston & Meyer Ceremony/Reception
DESCRIPTION:
URL:https://prairiewindseventcenter.com/event/johnston-meyer-ceremony-reception/
LOCATION:Prairie Winds Event Center
CATEGORIES:Weddings & Celebrations
END:VEVENT
BEGIN:VEVENT
DTSTART;VALUE=DATE:20260919
DTEND;VALUE=DATE:20260920
DTSTAMP:20260419T175647
CREATED:20260224T135956Z
LAST-MODIFIED:20260224T135956Z
UID:9582-1789776000-1789862399@prairiewindseventcenter.com
SUMMARY:Crichton & Fiedler Reception
DESCRIPTION:
URL:https://prairiewindseventcenter.com/event/crichton-fiedler-reception/
LOCATION:Prairie Winds Event Center
CATEGORIES:Weddings & Celebrations
END:VEVENT
BEGIN:VEVENT
DTSTART;VALUE=DATE:20260920
DTEND;VALUE=DATE:20260921
DTSTAMP:20260419T175647
CREATED:20250128T200754Z
LAST-MODIFIED:20250128T200754Z
UID:8319-1789862400-1789948799@prairiewindseventcenter.com
SUMMARY:Holiday Pricing
DESCRIPTION:
URL:https://prairiewindseventcenter.com/event/holiday-pricing-114/
END:VEVENT
BEGIN:VEVENT
DTSTART;VALUE=DATE:20260925
DTEND;VALUE=DATE:20260926
DTSTAMP:20260419T175647
CREATED:20251022T165813Z
LAST-MODIFIED:20251022T165813Z
UID:9080-1790294400-1790380799@prairiewindseventcenter.com
SUMMARY:Booked for Decor
DESCRIPTION:
URL:https://prairiewindseventcenter.com/event/booked-for-decor-34/
LOCATION:Prairie Winds Event Center
CATEGORIES:Weddings & Celebrations
END:VEVENT
BEGIN:VEVENT
DTSTART;VALUE=DATE:20260926
DTEND;VALUE=DATE:20260927
DTSTAMP:20260419T175647
CREATED:20251022T165902Z
LAST-MODIFIED:20251022T165902Z
UID:9083-1790380800-1790467199@prairiewindseventcenter.com
SUMMARY:Puhl & MacGregor Reception
DESCRIPTION:
URL:https://prairiewindseventcenter.com/event/puhl-macgregor-reception/
LOCATION:Prairie Winds Event Center
CATEGORIES:Weddings & Celebrations
END:VEVENT
BEGIN:VEVENT
DTSTART;VALUE=DATE:20260927
DTEND;VALUE=DATE:20260928
DTSTAMP:20260419T175647
CREATED:20250128T200811Z
LAST-MODIFIED:20250128T200811Z
UID:8322-1790467200-1790553599@prairiewindseventcenter.com
SUMMARY:Holiday Pricing
DESCRIPTION:
URL:https://prairiewindseventcenter.com/event/holiday-pricing-115/
END:VEVENT
END:VCALENDAR