BEGIN:VCALENDAR
VERSION:2.0
PRODID:-//Prairie Winds Event Center - ECPv6.15.20//NONSGML v1.0//EN
CALSCALE:GREGORIAN
METHOD:PUBLISH
X-WR-CALNAME:Prairie Winds Event Center
X-ORIGINAL-URL:https://prairiewindseventcenter.com
X-WR-CALDESC:Events for Prairie Winds Event Center
REFRESH-INTERVAL;VALUE=DURATION:PT1H
X-Robots-Tag:noindex
X-PUBLISHED-TTL:PT1H
BEGIN:VTIMEZONE
TZID:America/Chicago
BEGIN:DAYLIGHT
TZOFFSETFROM:-0600
TZOFFSETTO:-0500
TZNAME:CDT
DTSTART:20250309T080000
END:DAYLIGHT
BEGIN:STANDARD
TZOFFSETFROM:-0500
TZOFFSETTO:-0600
TZNAME:CST
DTSTART:20251102T070000
END:STANDARD
BEGIN:DAYLIGHT
TZOFFSETFROM:-0600
TZOFFSETTO:-0500
TZNAME:CDT
DTSTART:20260308T080000
END:DAYLIGHT
BEGIN:STANDARD
TZOFFSETFROM:-0500
TZOFFSETTO:-0600
TZNAME:CST
DTSTART:20261101T070000
END:STANDARD
BEGIN:DAYLIGHT
TZOFFSETFROM:-0600
TZOFFSETTO:-0500
TZNAME:CDT
DTSTART:20270314T080000
END:DAYLIGHT
BEGIN:STANDARD
TZOFFSETFROM:-0500
TZOFFSETTO:-0600
TZNAME:CST
DTSTART:20271107T070000
END:STANDARD
END:VTIMEZONE
BEGIN:VEVENT
DTSTART;VALUE=DATE:20260601
DTEND;VALUE=DATE:20260602
DTSTAMP:20260419T130652
CREATED:20260210T163537Z
LAST-MODIFIED:20260210T163537Z
UID:9569-1780272000-1780358399@prairiewindseventcenter.com
SUMMARY:Date Unavailable
DESCRIPTION:
URL:https://prairiewindseventcenter.com/event/date-unavailable-76/
LOCATION:Prairie Winds Event Center
END:VEVENT
BEGIN:VEVENT
DTSTART;VALUE=DATE:20260602
DTEND;VALUE=DATE:20260603
DTSTAMP:20260419T130652
CREATED:20260210T163451Z
LAST-MODIFIED:20260210T163451Z
UID:9563-1780358400-1780444799@prairiewindseventcenter.com
SUMMARY:Elections
DESCRIPTION:
URL:https://prairiewindseventcenter.com/event/elections-7/
LOCATION:Prairie Winds Event Center
CATEGORIES:Business & Corporate
END:VEVENT
BEGIN:VEVENT
DTSTART;VALUE=DATE:20260604
DTEND;VALUE=DATE:20260605
DTSTAMP:20260419T130652
CREATED:20251203T183940Z
LAST-MODIFIED:20251203T183940Z
UID:9192-1780531200-1780617599@prairiewindseventcenter.com
SUMMARY:Poppema & Kooima Reception
DESCRIPTION:
URL:https://prairiewindseventcenter.com/event/poppema-kooima-reception/
LOCATION:Prairie Winds Event Center
CATEGORIES:Weddings & Celebrations
END:VEVENT
BEGIN:VEVENT
DTSTART;VALUE=DATE:20260605
DTEND;VALUE=DATE:20260606
DTSTAMP:20260419T130652
CREATED:20250103T191654Z
LAST-MODIFIED:20250103T191654Z
UID:8104-1780617600-1780703999@prairiewindseventcenter.com
SUMMARY:Booked for Decor/Rehearsal
DESCRIPTION:
URL:https://prairiewindseventcenter.com/event/booked-for-decor-rehearsal-4/
LOCATION:Prairie Winds Event Center
CATEGORIES:Weddings & Celebrations
END:VEVENT
BEGIN:VEVENT
DTSTART;VALUE=DATE:20260606
DTEND;VALUE=DATE:20260607
DTSTAMP:20260419T130652
CREATED:20250103T191610Z
LAST-MODIFIED:20250103T191610Z
UID:8102-1780704000-1780790399@prairiewindseventcenter.com
SUMMARY:Holzman & Leusink Ceremony/Reception
DESCRIPTION:
URL:https://prairiewindseventcenter.com/event/holzman-leusink-ceremony-reception/
LOCATION:Prairie Winds Event Center
CATEGORIES:Weddings & Celebrations
END:VEVENT
BEGIN:VEVENT
DTSTART;VALUE=DATE:20260607
DTEND;VALUE=DATE:20260608
DTSTAMP:20260419T130652
CREATED:20250128T200042Z
LAST-MODIFIED:20250128T200042Z
UID:8268-1780790400-1780876799@prairiewindseventcenter.com
SUMMARY:Holiday Pricing
DESCRIPTION:
URL:https://prairiewindseventcenter.com/event/holiday-pricing-97/
END:VEVENT
BEGIN:VEVENT
DTSTART;VALUE=DATE:20260610
DTEND;VALUE=DATE:20260611
DTSTAMP:20260419T130652
CREATED:20260415T153615Z
LAST-MODIFIED:20260415T153615Z
UID:9644-1781049600-1781135999@prairiewindseventcenter.com
SUMMARY:OCAHS Marty's Retirement Open House
DESCRIPTION:
URL:https://prairiewindseventcenter.com/event/ocahs-martys-retirement-open-house/
LOCATION:Prairie Winds Event Center
CATEGORIES:Business & Corporate
END:VEVENT
BEGIN:VEVENT
DTSTART;VALUE=DATE:20260612
DTEND;VALUE=DATE:20260613
DTSTAMP:20260419T130652
CREATED:20241003T175312Z
LAST-MODIFIED:20241003T175312Z
UID:8004-1781222400-1781308799@prairiewindseventcenter.com
SUMMARY:Booked for Decor & Rehearsal
DESCRIPTION:
URL:https://prairiewindseventcenter.com/event/booked-for-decor-rehearsal-2/
LOCATION:Prairie Winds Event Center
CATEGORIES:Weddings & Celebrations
END:VEVENT
BEGIN:VEVENT
DTSTART;VALUE=DATE:20260613
DTEND;VALUE=DATE:20260614
DTSTAMP:20260419T130652
CREATED:20241003T175346Z
LAST-MODIFIED:20241003T175346Z
UID:8007-1781308800-1781395199@prairiewindseventcenter.com
SUMMARY:Heikes & Petitt Ceremony/Reception
DESCRIPTION:
URL:https://prairiewindseventcenter.com/event/heikes-petitt-ceremony-reception/
LOCATION:Prairie Winds Event Center
CATEGORIES:Weddings & Celebrations
END:VEVENT
BEGIN:VEVENT
DTSTART;VALUE=DATE:20260614
DTEND;VALUE=DATE:20260615
DTSTAMP:20260419T130652
CREATED:20250128T200101Z
LAST-MODIFIED:20250128T200101Z
UID:8271-1781395200-1781481599@prairiewindseventcenter.com
SUMMARY:Holiday Pricing
DESCRIPTION:
URL:https://prairiewindseventcenter.com/event/holiday-pricing-98/
END:VEVENT
BEGIN:VEVENT
DTSTART;VALUE=DATE:20260619
DTEND;VALUE=DATE:20260620
DTSTAMP:20260419T130652
CREATED:20250811T000812Z
LAST-MODIFIED:20250811T000812Z
UID:8953-1781827200-1781913599@prairiewindseventcenter.com
SUMMARY:Booked for Decor/Rehearsal
DESCRIPTION:
URL:https://prairiewindseventcenter.com/event/booked-for-decor-rehearsal-3/
LOCATION:Prairie Winds Event Center
CATEGORIES:Reception
END:VEVENT
BEGIN:VEVENT
DTSTART;VALUE=DATE:20260620
DTEND;VALUE=DATE:20260621
DTSTAMP:20260419T130652
CREATED:20250811T000906Z
LAST-MODIFIED:20250811T000906Z
UID:8956-1781913600-1781999999@prairiewindseventcenter.com
SUMMARY:Barendt & Mathiason Ceremony/Reception
DESCRIPTION:
URL:https://prairiewindseventcenter.com/event/barendt-mathiason-ceremony-reception/
LOCATION:Prairie Winds Event Center
CATEGORIES:Weddings & Celebrations
END:VEVENT
BEGIN:VEVENT
DTSTART;VALUE=DATE:20260621
DTEND;VALUE=DATE:20260622
DTSTAMP:20260419T130652
CREATED:20250128T200121Z
LAST-MODIFIED:20250128T200121Z
UID:8274-1782000000-1782086399@prairiewindseventcenter.com
SUMMARY:Holiday Pricing
DESCRIPTION:
URL:https://prairiewindseventcenter.com/event/holiday-pricing-99/
END:VEVENT
BEGIN:VEVENT
DTSTART;VALUE=DATE:20260624
DTEND;VALUE=DATE:20260625
DTSTAMP:20260419T130652
CREATED:20260415T160700Z
LAST-MODIFIED:20260415T160700Z
UID:9647-1782259200-1782345599@prairiewindseventcenter.com
SUMMARY:Pipeline Safety Awareness
DESCRIPTION:
URL:https://prairiewindseventcenter.com/event/pipeline-safety-awareness/
LOCATION:Prairie Winds Event Center
END:VEVENT
BEGIN:VEVENT
DTSTART;VALUE=DATE:20260626
DTEND;VALUE=DATE:20260627
DTSTAMP:20260419T130652
CREATED:20250318T190057Z
LAST-MODIFIED:20250318T190057Z
UID:8453-1782432000-1782518399@prairiewindseventcenter.com
SUMMARY:Sampson & Van Den Berg Ceremony/Reception
DESCRIPTION:
URL:https://prairiewindseventcenter.com/event/sampson-van-den-berg-ceremony-reception/
LOCATION:Prairie Winds Event Center
CATEGORIES:Weddings & Celebrations
END:VEVENT
BEGIN:VEVENT
DTSTART;VALUE=DATE:20260627
DTEND;VALUE=DATE:20260628
DTSTAMP:20260419T130652
CREATED:20250131T161550Z
LAST-MODIFIED:20250131T161550Z
UID:8386-1782518400-1782604799@prairiewindseventcenter.com
SUMMARY:Private Wedding Reception
DESCRIPTION:
URL:https://prairiewindseventcenter.com/event/private-wedding-reception/
LOCATION:Prairie Winds Event Center
CATEGORIES:Weddings & Celebrations
END:VEVENT
BEGIN:VEVENT
DTSTART;VALUE=DATE:20260628
DTEND;VALUE=DATE:20260629
DTSTAMP:20260419T130652
CREATED:20250128T200139Z
LAST-MODIFIED:20250128T200139Z
UID:8276-1782604800-1782691199@prairiewindseventcenter.com
SUMMARY:Holiday Pricing
DESCRIPTION:
URL:https://prairiewindseventcenter.com/event/holiday-pricing-100/
END:VEVENT
END:VCALENDAR