BEGIN:VCALENDAR
VERSION:2.0
PRODID:-//Prairie Winds Event Center - ECPv6.15.20//NONSGML v1.0//EN
CALSCALE:GREGORIAN
METHOD:PUBLISH
X-WR-CALNAME:Prairie Winds Event Center
X-ORIGINAL-URL:https://prairiewindseventcenter.com
X-WR-CALDESC:Events for Prairie Winds Event Center
REFRESH-INTERVAL;VALUE=DURATION:PT1H
X-Robots-Tag:noindex
X-PUBLISHED-TTL:PT1H
BEGIN:VTIMEZONE
TZID:America/Chicago
BEGIN:DAYLIGHT
TZOFFSETFROM:-0600
TZOFFSETTO:-0500
TZNAME:CDT
DTSTART:20250309T080000
END:DAYLIGHT
BEGIN:STANDARD
TZOFFSETFROM:-0500
TZOFFSETTO:-0600
TZNAME:CST
DTSTART:20251102T070000
END:STANDARD
BEGIN:DAYLIGHT
TZOFFSETFROM:-0600
TZOFFSETTO:-0500
TZNAME:CDT
DTSTART:20260308T080000
END:DAYLIGHT
BEGIN:STANDARD
TZOFFSETFROM:-0500
TZOFFSETTO:-0600
TZNAME:CST
DTSTART:20261101T070000
END:STANDARD
BEGIN:DAYLIGHT
TZOFFSETFROM:-0600
TZOFFSETTO:-0500
TZNAME:CDT
DTSTART:20270314T080000
END:DAYLIGHT
BEGIN:STANDARD
TZOFFSETFROM:-0500
TZOFFSETTO:-0600
TZNAME:CST
DTSTART:20271107T070000
END:STANDARD
END:VTIMEZONE
BEGIN:VEVENT
DTSTART;VALUE=DATE:20260501
DTEND;VALUE=DATE:20260502
DTSTAMP:20260419T113833
CREATED:20250811T002052Z
LAST-MODIFIED:20250811T002052Z
UID:8959-1777593600-1777679999@prairiewindseventcenter.com
SUMMARY:Kern & Bonestroo Reception
DESCRIPTION:
URL:https://prairiewindseventcenter.com/event/kern-bonestroo-reception/
LOCATION:Prairie Winds Event Center
END:VEVENT
BEGIN:VEVENT
DTSTART;VALUE=DATE:20260502
DTEND;VALUE=DATE:20260503
DTSTAMP:20260419T113833
CREATED:20250430T151010Z
LAST-MODIFIED:20250614T014727Z
UID:8582-1777680000-1777766399@prairiewindseventcenter.com
SUMMARY:Osterholt & Mousel Ceremony/Reception
DESCRIPTION:
URL:https://prairiewindseventcenter.com/event/osterholt-mousel-ceremony-reception/
LOCATION:Prairie Winds Event Center
CATEGORIES:Weddings & Celebrations
END:VEVENT
BEGIN:VEVENT
DTSTART;VALUE=DATE:20260503
DTEND;VALUE=DATE:20260504
DTSTAMP:20260419T113833
CREATED:20250128T194629Z
LAST-MODIFIED:20250128T194629Z
UID:8237-1777766400-1777852799@prairiewindseventcenter.com
SUMMARY:Holiday Pricing
DESCRIPTION:
URL:https://prairiewindseventcenter.com/event/holiday-pricing-88/
END:VEVENT
BEGIN:VEVENT
DTSTART;VALUE=DATE:20260504
DTEND;VALUE=DATE:20260505
DTSTAMP:20260419T113833
CREATED:20260403T153631Z
LAST-MODIFIED:20260403T153631Z
UID:9637-1777852800-1777939199@prairiewindseventcenter.com
SUMMARY:Siouxland Medicare Client Lunch & Learn
DESCRIPTION:
URL:https://prairiewindseventcenter.com/event/siouxland-medicare-client-lunch-learn/
LOCATION:Prairie Winds Event Center
CATEGORIES:Business & Corporate
END:VEVENT
BEGIN:VEVENT
DTSTART;VALUE=DATE:20260508
DTEND;VALUE=DATE:20260509
DTSTAMP:20260419T113833
CREATED:20250417T155242Z
LAST-MODIFIED:20250417T155242Z
UID:8572-1778198400-1778284799@prairiewindseventcenter.com
SUMMARY:Booked for Decor & Rehearsal
DESCRIPTION:
URL:https://prairiewindseventcenter.com/event/booked-for-decor-rehearsal-9/
LOCATION:Prairie Winds Event Center\, 908 8th Street SE\, Orange City\, IA\, 51041\, United States
CATEGORIES:Weddings & Celebrations
END:VEVENT
BEGIN:VEVENT
DTSTART;VALUE=DATE:20260509
DTEND;VALUE=DATE:20260510
DTSTAMP:20260419T113833
CREATED:20250417T155318Z
LAST-MODIFIED:20250417T155318Z
UID:8575-1778284800-1778371199@prairiewindseventcenter.com
SUMMARY:Kellen & Owen Ceremony/Reception
DESCRIPTION:
URL:https://prairiewindseventcenter.com/event/kellen-owen-ceremony-reception/
LOCATION:Prairie Winds Event Center
CATEGORIES:Weddings & Celebrations
END:VEVENT
BEGIN:VEVENT
DTSTART;VALUE=DATE:20260510
DTEND;VALUE=DATE:20260511
DTSTAMP:20260419T113833
CREATED:20250128T194647Z
LAST-MODIFIED:20250128T194647Z
UID:8240-1778371200-1778457599@prairiewindseventcenter.com
SUMMARY:Holiday Pricing
DESCRIPTION:
URL:https://prairiewindseventcenter.com/event/holiday-pricing-89/
END:VEVENT
BEGIN:VEVENT
DTSTART;VALUE=DATE:20260514
DTEND;VALUE=DATE:20260517
DTSTAMP:20260419T113833
CREATED:20250128T194913Z
LAST-MODIFIED:20250128T194932Z
UID:8252-1778716800-1778975999@prairiewindseventcenter.com
SUMMARY:Orange City Tulip Festival
DESCRIPTION:
URL:https://prairiewindseventcenter.com/event/tulip-festival/
END:VEVENT
BEGIN:VEVENT
DTSTART;VALUE=DATE:20260514
DTEND;VALUE=DATE:20260515
DTSTAMP:20260419T113833
CREATED:20250625T194506Z
LAST-MODIFIED:20250625T194506Z
UID:8674-1778716800-1778803199@prairiewindseventcenter.com
SUMMARY:Holiday Pricing
DESCRIPTION:
URL:https://prairiewindseventcenter.com/event/holiday-pricing-136/
LOCATION:Prairie Winds Event Center
END:VEVENT
BEGIN:VEVENT
DTSTART;VALUE=DATE:20260515
DTEND;VALUE=DATE:20260516
DTSTAMP:20260419T113833
CREATED:20250128T194750Z
LAST-MODIFIED:20250128T194816Z
UID:8246-1778803200-1778889599@prairiewindseventcenter.com
SUMMARY:Holiday Pricing
DESCRIPTION:
URL:https://prairiewindseventcenter.com/event/holiday-pricing-91/
END:VEVENT
BEGIN:VEVENT
DTSTART;VALUE=DATE:20260516
DTEND;VALUE=DATE:20260517
DTSTAMP:20260419T113833
CREATED:20250128T194831Z
LAST-MODIFIED:20250128T194831Z
UID:8249-1778889600-1778975999@prairiewindseventcenter.com
SUMMARY:Holiday Pricing
DESCRIPTION:
URL:https://prairiewindseventcenter.com/event/holiday-pricing-92/
END:VEVENT
BEGIN:VEVENT
DTSTART;VALUE=DATE:20260517
DTEND;VALUE=DATE:20260518
DTSTAMP:20260419T113833
CREATED:20250128T194719Z
LAST-MODIFIED:20250128T194719Z
UID:8243-1778976000-1779062399@prairiewindseventcenter.com
SUMMARY:Holiday Pricing
DESCRIPTION:
URL:https://prairiewindseventcenter.com/event/holiday-pricing-90/
END:VEVENT
BEGIN:VEVENT
DTSTART;VALUE=DATE:20260522
DTEND;VALUE=DATE:20260523
DTSTAMP:20260419T113833
CREATED:20250128T195117Z
LAST-MODIFIED:20250128T195117Z
UID:8259-1779408000-1779494399@prairiewindseventcenter.com
SUMMARY:Holiday Pricing
DESCRIPTION:
URL:https://prairiewindseventcenter.com/event/holiday-pricing-94/
END:VEVENT
BEGIN:VEVENT
DTSTART;VALUE=DATE:20260522
DTEND;VALUE=DATE:20260523
DTSTAMP:20260419T113834
CREATED:20260116T205003Z
LAST-MODIFIED:20260116T205003Z
UID:9226-1779408000-1779494399@prairiewindseventcenter.com
SUMMARY:Van Dyken & Winterfeld Ceremony/Reception
DESCRIPTION:
URL:https://prairiewindseventcenter.com/event/van-dyken-winterfeld-ceremony-reception/
LOCATION:Prairie Winds Event Center
CATEGORIES:Weddings & Celebrations
END:VEVENT
BEGIN:VEVENT
DTSTART;VALUE=DATE:20260523
DTEND;VALUE=DATE:20260524
DTSTAMP:20260419T113834
CREATED:20250128T195141Z
LAST-MODIFIED:20250128T195141Z
UID:8262-1779494400-1779580799@prairiewindseventcenter.com
SUMMARY:Holiday Pricing
DESCRIPTION:
URL:https://prairiewindseventcenter.com/event/holiday-pricing-95/
END:VEVENT
BEGIN:VEVENT
DTSTART;VALUE=DATE:20260523
DTEND;VALUE=DATE:20260524
DTSTAMP:20260419T113834
CREATED:20250312T134255Z
LAST-MODIFIED:20250312T134255Z
UID:8436-1779494400-1779580799@prairiewindseventcenter.com
SUMMARY:Bodensteiner & Putze Reception
DESCRIPTION:
URL:https://prairiewindseventcenter.com/event/bodensteiner-putze-reception/
CATEGORIES:Weddings & Celebrations
END:VEVENT
BEGIN:VEVENT
DTSTART;VALUE=DATE:20260524
DTEND;VALUE=DATE:20260525
DTSTAMP:20260419T113834
CREATED:20250128T195032Z
LAST-MODIFIED:20250128T195032Z
UID:8256-1779580800-1779667199@prairiewindseventcenter.com
SUMMARY:Holiday Pricing
DESCRIPTION:
URL:https://prairiewindseventcenter.com/event/holiday-pricing-93/
END:VEVENT
BEGIN:VEVENT
DTSTART;VALUE=DATE:20260525
DTEND;VALUE=DATE:20260526
DTSTAMP:20260419T113834
CREATED:20241226T173233Z
LAST-MODIFIED:20241226T173233Z
UID:8081-1779667200-1779753599@prairiewindseventcenter.com
SUMMARY:Date Unavailable
DESCRIPTION:
URL:https://prairiewindseventcenter.com/event/date-unavailable-50/
LOCATION:Prairie Winds Event Center
END:VEVENT
BEGIN:VEVENT
DTSTART;VALUE=DATE:20260527
DTEND;VALUE=DATE:20260528
DTSTAMP:20260419T113834
CREATED:20250801T144808Z
LAST-MODIFIED:20250801T144808Z
UID:8946-1779840000-1779926399@prairiewindseventcenter.com
SUMMARY:Pizza Ranch Staff Meeting
DESCRIPTION:
URL:https://prairiewindseventcenter.com/event/pizza-ranch-staff-meeting-7/
LOCATION:Prairie Winds Event Center
CATEGORIES:Business & Corporate
END:VEVENT
BEGIN:VEVENT
DTSTART;VALUE=DATE:20260528
DTEND;VALUE=DATE:20260529
DTSTAMP:20260419T113834
CREATED:20260415T152527Z
LAST-MODIFIED:20260415T152527Z
UID:9641-1779926400-1780012799@prairiewindseventcenter.com
SUMMARY:OCAHS 20 year Luncheon
DESCRIPTION:
URL:https://prairiewindseventcenter.com/event/ocahs-20-year-luncheon-2/
LOCATION:Prairie Winds Event Center
CATEGORIES:Business & Corporate
END:VEVENT
BEGIN:VEVENT
DTSTART;VALUE=DATE:20260529
DTEND;VALUE=DATE:20260530
DTSTAMP:20260419T113834
CREATED:20250606T173045Z
LAST-MODIFIED:20250610T153612Z
UID:8646-1780012800-1780099199@prairiewindseventcenter.com
SUMMARY:Private Reception
DESCRIPTION:
URL:https://prairiewindseventcenter.com/event/brandt-myers-reception/
LOCATION:Prairie Winds Event Center
END:VEVENT
BEGIN:VEVENT
DTSTART;VALUE=DATE:20260530
DTEND;VALUE=DATE:20260531
DTSTAMP:20260419T113834
CREATED:20250204T154744Z
LAST-MODIFIED:20250204T154744Z
UID:8389-1780099200-1780185599@prairiewindseventcenter.com
SUMMARY:Ames & Cluck Ceremony/Reception
DESCRIPTION:
URL:https://prairiewindseventcenter.com/event/ames-cluck-ceremony-reception/
LOCATION:Prairie Winds Event Center
CATEGORIES:Weddings & Celebrations
END:VEVENT
BEGIN:VEVENT
DTSTART;VALUE=DATE:20260531
DTEND;VALUE=DATE:20260601
DTSTAMP:20260419T113834
CREATED:20250128T200003Z
LAST-MODIFIED:20250128T200003Z
UID:8265-1780185600-1780271999@prairiewindseventcenter.com
SUMMARY:Holiday Pricing
DESCRIPTION:
URL:https://prairiewindseventcenter.com/event/holiday-pricing-96/
END:VEVENT
END:VCALENDAR