BEGIN:VCALENDAR
VERSION:2.0
PRODID:-//Prairie Winds Event Center - ECPv6.15.20//NONSGML v1.0//EN
CALSCALE:GREGORIAN
METHOD:PUBLISH
X-ORIGINAL-URL:https://prairiewindseventcenter.com
X-WR-CALDESC:Events for Prairie Winds Event Center
REFRESH-INTERVAL;VALUE=DURATION:PT1H
X-Robots-Tag:noindex
X-PUBLISHED-TTL:PT1H
BEGIN:VTIMEZONE
TZID:America/Chicago
BEGIN:DAYLIGHT
TZOFFSETFROM:-0600
TZOFFSETTO:-0500
TZNAME:CDT
DTSTART:20250309T080000
END:DAYLIGHT
BEGIN:STANDARD
TZOFFSETFROM:-0500
TZOFFSETTO:-0600
TZNAME:CST
DTSTART:20251102T070000
END:STANDARD
BEGIN:DAYLIGHT
TZOFFSETFROM:-0600
TZOFFSETTO:-0500
TZNAME:CDT
DTSTART:20260308T080000
END:DAYLIGHT
BEGIN:STANDARD
TZOFFSETFROM:-0500
TZOFFSETTO:-0600
TZNAME:CST
DTSTART:20261101T070000
END:STANDARD
BEGIN:DAYLIGHT
TZOFFSETFROM:-0600
TZOFFSETTO:-0500
TZNAME:CDT
DTSTART:20270314T080000
END:DAYLIGHT
BEGIN:STANDARD
TZOFFSETFROM:-0500
TZOFFSETTO:-0600
TZNAME:CST
DTSTART:20271107T070000
END:STANDARD
END:VTIMEZONE
BEGIN:VEVENT
DTSTART;VALUE=DATE:20260301
DTEND;VALUE=DATE:20260302
DTSTAMP:20260419T112713
CREATED:20250128T194105Z
LAST-MODIFIED:20250128T194105Z
UID:8210-1772323200-1772409599@prairiewindseventcenter.com
SUMMARY:Holiday Pricing
DESCRIPTION:
URL:https://prairiewindseventcenter.com/event/holiday-pricing-79/
END:VEVENT
BEGIN:VEVENT
DTSTART;VALUE=DATE:20260303
DTEND;VALUE=DATE:20260304
DTSTAMP:20260419T112713
CREATED:20260116T162826Z
LAST-MODIFIED:20260116T162826Z
UID:9223-1772496000-1772582399@prairiewindseventcenter.com
SUMMARY:MOC-FV Jazz Band
DESCRIPTION:
URL:https://prairiewindseventcenter.com/event/moc-fv-jazz-band-2/
LOCATION:Prairie Winds Event Center
END:VEVENT
BEGIN:VEVENT
DTSTART;VALUE=DATE:20260306
DTEND;VALUE=DATE:20260307
DTSTAMP:20260419T112713
CREATED:20250503T175034Z
LAST-MODIFIED:20250503T175034Z
UID:8591-1772755200-1772841599@prairiewindseventcenter.com
SUMMARY:Guiding Star Annual Gala
DESCRIPTION:
URL:https://prairiewindseventcenter.com/event/guiding-star-annual-gala/
LOCATION:Prairie Winds Event Center
CATEGORIES:Special Events
END:VEVENT
BEGIN:VEVENT
DTSTART;VALUE=DATE:20260308
DTEND;VALUE=DATE:20260309
DTSTAMP:20260419T112713
CREATED:20250128T194128Z
LAST-MODIFIED:20250128T194128Z
UID:8213-1772928000-1773014399@prairiewindseventcenter.com
SUMMARY:Holiday Pricing
DESCRIPTION:
URL:https://prairiewindseventcenter.com/event/holiday-pricing-80/
END:VEVENT
BEGIN:VEVENT
DTSTART;VALUE=DATE:20260311
DTEND;VALUE=DATE:20260312
DTSTAMP:20260419T112713
CREATED:20250801T150035Z
LAST-MODIFIED:20250801T150035Z
UID:8949-1773187200-1773273599@prairiewindseventcenter.com
SUMMARY:Pizza Ranch Staff Meeting
DESCRIPTION:
URL:https://prairiewindseventcenter.com/event/pizza-ranch-staff-meeting-8/
LOCATION:Prairie Winds Event Center
CATEGORIES:Business & Corporate
END:VEVENT
BEGIN:VEVENT
DTSTART;VALUE=DATE:20260314
DTEND;VALUE=DATE:20260315
DTSTAMP:20260419T112713
CREATED:20250630T142013Z
LAST-MODIFIED:20250630T142013Z
UID:8899-1773446400-1773532799@prairiewindseventcenter.com
SUMMARY:Smith & Eichmann Ceremony/Reception
DESCRIPTION:
URL:https://prairiewindseventcenter.com/event/smith-eichmann-ceremony-reception/
LOCATION:Prairie Winds Event Center
CATEGORIES:Weddings & Celebrations
END:VEVENT
BEGIN:VEVENT
DTSTART;VALUE=DATE:20260315
DTEND;VALUE=DATE:20260316
DTSTAMP:20260419T112713
CREATED:20250128T194243Z
LAST-MODIFIED:20250128T194243Z
UID:8216-1773532800-1773619199@prairiewindseventcenter.com
SUMMARY:Holiday Pricing
DESCRIPTION:
URL:https://prairiewindseventcenter.com/event/holiday-pricing-81/
END:VEVENT
BEGIN:VEVENT
DTSTART;VALUE=DATE:20260317
DTEND;VALUE=DATE:20260318
DTSTAMP:20260419T112713
CREATED:20250821T153211Z
LAST-MODIFIED:20250821T153211Z
UID:9015-1773705600-1773791999@prairiewindseventcenter.com
SUMMARY:TFE Rehearsal
DESCRIPTION:
URL:https://prairiewindseventcenter.com/event/tfe-rehearsal-2/
LOCATION:Prairie Winds Event Center
END:VEVENT
BEGIN:VEVENT
DTSTART;VALUE=DATE:20260318
DTEND;VALUE=DATE:20260319
DTSTAMP:20260419T112713
CREATED:20250821T153146Z
LAST-MODIFIED:20250821T153146Z
UID:9012-1773792000-1773878399@prairiewindseventcenter.com
SUMMARY:Tulip Festival Extravaganza
DESCRIPTION:
URL:https://prairiewindseventcenter.com/event/tulip-festival-extravaganza-6/
LOCATION:Prairie Winds Event Center
CATEGORIES:Special Events
END:VEVENT
BEGIN:VEVENT
DTSTART;VALUE=DATE:20260320
DTEND;VALUE=DATE:20260321
DTSTAMP:20260419T112713
CREATED:20260210T155007Z
LAST-MODIFIED:20260210T155007Z
UID:9560-1773964800-1774051199@prairiewindseventcenter.com
SUMMARY:RC Family Farms Producer Awards Luncheon
DESCRIPTION:
URL:https://prairiewindseventcenter.com/event/rc-family-farms-producer-awards-luncheon/
LOCATION:Prairie Winds Event Center
CATEGORIES:Business & Corporate
END:VEVENT
BEGIN:VEVENT
DTSTART;VALUE=DATE:20260321
DTEND;VALUE=DATE:20260322
DTSTAMP:20260419T112713
CREATED:20251028T161947Z
LAST-MODIFIED:20251028T161947Z
UID:9097-1774051200-1774137599@prairiewindseventcenter.com
SUMMARY:DordtWestern Dance
DESCRIPTION:
URL:https://prairiewindseventcenter.com/event/dordtwestern-dance/
LOCATION:Prairie Winds Event Center
CATEGORIES:Special Events
END:VEVENT
BEGIN:VEVENT
DTSTART;VALUE=DATE:20260322
DTEND;VALUE=DATE:20260323
DTSTAMP:20260419T112713
CREATED:20250128T194351Z
LAST-MODIFIED:20250128T194351Z
UID:8219-1774137600-1774223999@prairiewindseventcenter.com
SUMMARY:Holiday Pricing
DESCRIPTION:
URL:https://prairiewindseventcenter.com/event/holiday-pricing-82/
END:VEVENT
BEGIN:VEVENT
DTSTART;VALUE=DATE:20260324
DTEND;VALUE=DATE:20260325
DTSTAMP:20260419T112713
CREATED:20260313T154515Z
LAST-MODIFIED:20260313T154515Z
UID:9614-1774310400-1774396799@prairiewindseventcenter.com
SUMMARY:Pipestone Pig Care Conference
DESCRIPTION:
URL:https://prairiewindseventcenter.com/event/pipestone-pig-care-conference-2/
LOCATION:Prairie Winds Event Center
CATEGORIES:Business & Corporate
END:VEVENT
BEGIN:VEVENT
DTSTART;VALUE=DATE:20260326
DTEND;VALUE=DATE:20260327
DTSTAMP:20260419T112713
CREATED:20251203T185354Z
LAST-MODIFIED:20251203T185354Z
UID:9195-1774483200-1774569599@prairiewindseventcenter.com
SUMMARY:GCC Employee Meeting
DESCRIPTION:
URL:https://prairiewindseventcenter.com/event/gcc-employee-meeting-2/
LOCATION:Prairie Winds Event Center
CATEGORIES:Business & Corporate
END:VEVENT
BEGIN:VEVENT
DTSTART;VALUE=DATE:20260327
DTEND;VALUE=DATE:20260328
DTSTAMP:20260419T112713
CREATED:20251103T192347Z
LAST-MODIFIED:20251103T192347Z
UID:9162-1774569600-1774655999@prairiewindseventcenter.com
SUMMARY:Date Unavailable
DESCRIPTION:
URL:https://prairiewindseventcenter.com/event/date-unavailable-74/
LOCATION:Prairie Winds Event Center
CATEGORIES:Special Events
END:VEVENT
BEGIN:VEVENT
DTSTART;VALUE=DATE:20260328
DTEND;VALUE=DATE:20260329
DTSTAMP:20260419T112713
CREATED:20251103T192322Z
LAST-MODIFIED:20251103T192322Z
UID:9159-1774656000-1774742399@prairiewindseventcenter.com
SUMMARY:Orange City Spring Shopping Expo
DESCRIPTION:
URL:https://prairiewindseventcenter.com/event/orange-city-spring-shopping-expo/
LOCATION:Prairie Winds Event Center
CATEGORIES:Special Events
END:VEVENT
BEGIN:VEVENT
DTSTART;VALUE=DATE:20260329
DTEND;VALUE=DATE:20260330
DTSTAMP:20260419T112713
CREATED:20250128T194410Z
LAST-MODIFIED:20250128T194410Z
UID:8222-1774742400-1774828799@prairiewindseventcenter.com
SUMMARY:Holiday Pricing
DESCRIPTION:
URL:https://prairiewindseventcenter.com/event/holiday-pricing-83/
END:VEVENT
END:VCALENDAR