BEGIN:VCALENDAR
VERSION:2.0
PRODID:-//Prairie Winds Event Center - ECPv6.15.20//NONSGML v1.0//EN
CALSCALE:GREGORIAN
METHOD:PUBLISH
X-WR-CALNAME:Prairie Winds Event Center
X-ORIGINAL-URL:https://prairiewindseventcenter.com
X-WR-CALDESC:Events for Prairie Winds Event Center
REFRESH-INTERVAL;VALUE=DURATION:PT1H
X-Robots-Tag:noindex
X-PUBLISHED-TTL:PT1H
BEGIN:VTIMEZONE
TZID:America/Chicago
BEGIN:DAYLIGHT
TZOFFSETFROM:-0600
TZOFFSETTO:-0500
TZNAME:CDT
DTSTART:20240310T080000
END:DAYLIGHT
BEGIN:STANDARD
TZOFFSETFROM:-0500
TZOFFSETTO:-0600
TZNAME:CST
DTSTART:20241103T070000
END:STANDARD
BEGIN:DAYLIGHT
TZOFFSETFROM:-0600
TZOFFSETTO:-0500
TZNAME:CDT
DTSTART:20250309T080000
END:DAYLIGHT
BEGIN:STANDARD
TZOFFSETFROM:-0500
TZOFFSETTO:-0600
TZNAME:CST
DTSTART:20251102T070000
END:STANDARD
BEGIN:DAYLIGHT
TZOFFSETFROM:-0600
TZOFFSETTO:-0500
TZNAME:CDT
DTSTART:20260308T080000
END:DAYLIGHT
BEGIN:STANDARD
TZOFFSETFROM:-0500
TZOFFSETTO:-0600
TZNAME:CST
DTSTART:20261101T070000
END:STANDARD
END:VTIMEZONE
BEGIN:VEVENT
DTSTART;VALUE=DATE:20251202
DTEND;VALUE=DATE:20251203
DTSTAMP:20260424T051623
CREATED:20250904T140852Z
LAST-MODIFIED:20250925T163804Z
UID:9032-1764633600-1764719999@prairiewindseventcenter.com
SUMMARY:OCAHS Volunteer Christmas Event
DESCRIPTION:
URL:https://prairiewindseventcenter.com/event/ocahs-volunteer-christmas-event/
LOCATION:Prairie Winds Event Center
CATEGORIES:Special Events
END:VEVENT
BEGIN:VEVENT
DTSTART;VALUE=DATE:20251204
DTEND;VALUE=DATE:20251205
DTSTAMP:20260424T051623
CREATED:20250819T203257Z
LAST-MODIFIED:20250819T203257Z
UID:9006-1764806400-1764892799@prairiewindseventcenter.com
SUMMARY:Date Unavailable
DESCRIPTION:
URL:https://prairiewindseventcenter.com/event/date-unavailable-73/
LOCATION:Prairie Winds Event Center
END:VEVENT
BEGIN:VEVENT
DTSTART;VALUE=DATE:20251205
DTEND;VALUE=DATE:20251207
DTSTAMP:20260424T051623
CREATED:20240125T161621Z
LAST-MODIFIED:20240125T161621Z
UID:7482-1764892800-1765065599@prairiewindseventcenter.com
SUMMARY:Diamond Vogel Christmas Party
DESCRIPTION:
URL:https://prairiewindseventcenter.com/event/diamond-vogel-christmas-party-2/
LOCATION:Prairie Winds Event Center
CATEGORIES:Special Events
END:VEVENT
BEGIN:VEVENT
DTSTART;VALUE=DATE:20251207
DTEND;VALUE=DATE:20251208
DTSTAMP:20260424T051623
CREATED:20230628T192118Z
LAST-MODIFIED:20230628T192118Z
UID:7176-1765065600-1765151999@prairiewindseventcenter.com
SUMMARY:Holiday Pricing
DESCRIPTION:
URL:https://prairiewindseventcenter.com/event/holiday-pricing-69/
CATEGORIES:Holiday
END:VEVENT
BEGIN:VEVENT
DTSTART;VALUE=DATE:20251211
DTEND;VALUE=DATE:20251212
DTSTAMP:20260424T051623
CREATED:20251113T184558Z
LAST-MODIFIED:20251113T184558Z
UID:9181-1765411200-1765497599@prairiewindseventcenter.com
SUMMARY:Terra Transitional Solutions Customer Meeting
DESCRIPTION:
URL:https://prairiewindseventcenter.com/event/terra-transitional-solutions-customer-meeting/
LOCATION:Prairie Winds Event Center
CATEGORIES:Business & Corporate
END:VEVENT
BEGIN:VEVENT
DTSTART;VALUE=DATE:20251213
DTEND;VALUE=DATE:20251214
DTSTAMP:20260424T051623
CREATED:20250207T175225Z
LAST-MODIFIED:20250207T175225Z
UID:8408-1765584000-1765670399@prairiewindseventcenter.com
SUMMARY:NWC Winter Formal
DESCRIPTION:
URL:https://prairiewindseventcenter.com/event/nwc-winter-formal-5/
LOCATION:Prairie Winds Event Center
CATEGORIES:Special Events
END:VEVENT
BEGIN:VEVENT
DTSTART;VALUE=DATE:20251214
DTEND;VALUE=DATE:20251215
DTSTAMP:20260424T051623
CREATED:20230628T192214Z
LAST-MODIFIED:20230628T192214Z
UID:7179-1765670400-1765756799@prairiewindseventcenter.com
SUMMARY:Holiday Pricing
DESCRIPTION:
URL:https://prairiewindseventcenter.com/event/holiday-pricing-70/
CATEGORIES:Holiday
END:VEVENT
BEGIN:VEVENT
DTSTART;VALUE=DATE:20251217
DTEND;VALUE=DATE:20251218
DTSTAMP:20260424T051623
CREATED:20251024T174425Z
LAST-MODIFIED:20251024T174425Z
UID:9091-1765929600-1766015999@prairiewindseventcenter.com
SUMMARY:City of OC Employee Recognition
DESCRIPTION:
URL:https://prairiewindseventcenter.com/event/city-of-oc-employee-recognition/
LOCATION:Prairie Winds Event Center
CATEGORIES:Special Events
END:VEVENT
BEGIN:VEVENT
DTSTART;VALUE=DATE:20251220
DTEND;VALUE=DATE:20251221
DTSTAMP:20260424T051623
CREATED:20250507T152807Z
LAST-MODIFIED:20250507T152807Z
UID:8597-1766188800-1766275199@prairiewindseventcenter.com
SUMMARY:Noteboom & Schreurs Reception
DESCRIPTION:
URL:https://prairiewindseventcenter.com/event/noteboom-schreurs-reception/
LOCATION:Prairie Winds Event Center
CATEGORIES:Weddings & Celebrations
END:VEVENT
BEGIN:VEVENT
DTSTART;VALUE=DATE:20251221
DTEND;VALUE=DATE:20251222
DTSTAMP:20260424T051623
CREATED:20230628T192244Z
LAST-MODIFIED:20230628T192244Z
UID:7182-1766275200-1766361599@prairiewindseventcenter.com
SUMMARY:Holiday Pricing
DESCRIPTION:
URL:https://prairiewindseventcenter.com/event/holiday-pricing-71/
CATEGORIES:Holiday
END:VEVENT
BEGIN:VEVENT
DTSTART;VALUE=DATE:20251224
DTEND;VALUE=DATE:20251226
DTSTAMP:20260424T051623
CREATED:20250116T165506Z
LAST-MODIFIED:20250116T165506Z
UID:8140-1766534400-1766707199@prairiewindseventcenter.com
SUMMARY:Dates Unavailable
DESCRIPTION:
URL:https://prairiewindseventcenter.com/event/dates-unavailable/
LOCATION:Prairie Winds Event Center
END:VEVENT
BEGIN:VEVENT
DTSTART;VALUE=DATE:20251226
DTEND;VALUE=DATE:20251227
DTSTAMP:20260424T051623
CREATED:20250709T181305Z
LAST-MODIFIED:20250709T181305Z
UID:8905-1766707200-1766793599@prairiewindseventcenter.com
SUMMARY:VerSteeg Family Christmas Party
DESCRIPTION:
URL:https://prairiewindseventcenter.com/event/versteeg-family-christmas-party/
CATEGORIES:Special Events
END:VEVENT
BEGIN:VEVENT
DTSTART;VALUE=DATE:20251228
DTEND;VALUE=DATE:20251229
DTSTAMP:20260424T051623
CREATED:20230628T192310Z
LAST-MODIFIED:20230628T192310Z
UID:7185-1766880000-1766966399@prairiewindseventcenter.com
SUMMARY:Holiday Pricing
DESCRIPTION:
URL:https://prairiewindseventcenter.com/event/holiday-pricing-72/
CATEGORIES:Holiday
END:VEVENT
BEGIN:VEVENT
DTSTART;VALUE=DATE:20251231
DTEND;VALUE=DATE:20260101
DTSTAMP:20260424T051623
CREATED:20250318T225751Z
LAST-MODIFIED:20250318T225751Z
UID:8459-1767139200-1767225599@prairiewindseventcenter.com
SUMMARY:Holiday Pricing
DESCRIPTION:
URL:https://prairiewindseventcenter.com/event/holiday-pricing-135/
LOCATION:Prairie Winds Event Center
END:VEVENT
END:VCALENDAR