BEGIN:VCALENDAR
VERSION:2.0
PRODID:-//Prairie Winds Event Center - ECPv6.15.20//NONSGML v1.0//EN
CALSCALE:GREGORIAN
METHOD:PUBLISH
X-ORIGINAL-URL:https://prairiewindseventcenter.com
X-WR-CALDESC:Events for Prairie Winds Event Center
REFRESH-INTERVAL;VALUE=DURATION:PT1H
X-Robots-Tag:noindex
X-PUBLISHED-TTL:PT1H
BEGIN:VTIMEZONE
TZID:America/Chicago
BEGIN:DAYLIGHT
TZOFFSETFROM:-0600
TZOFFSETTO:-0500
TZNAME:CDT
DTSTART:20240310T080000
END:DAYLIGHT
BEGIN:STANDARD
TZOFFSETFROM:-0500
TZOFFSETTO:-0600
TZNAME:CST
DTSTART:20241103T070000
END:STANDARD
BEGIN:DAYLIGHT
TZOFFSETFROM:-0600
TZOFFSETTO:-0500
TZNAME:CDT
DTSTART:20250309T080000
END:DAYLIGHT
BEGIN:STANDARD
TZOFFSETFROM:-0500
TZOFFSETTO:-0600
TZNAME:CST
DTSTART:20251102T070000
END:STANDARD
BEGIN:DAYLIGHT
TZOFFSETFROM:-0600
TZOFFSETTO:-0500
TZNAME:CDT
DTSTART:20260308T080000
END:DAYLIGHT
BEGIN:STANDARD
TZOFFSETFROM:-0500
TZOFFSETTO:-0600
TZNAME:CST
DTSTART:20261101T070000
END:STANDARD
END:VTIMEZONE
BEGIN:VEVENT
DTSTART;VALUE=DATE:20250710
DTEND;VALUE=DATE:20250711
DTSTAMP:20260424T112657
CREATED:20240601T133510Z
LAST-MODIFIED:20240601T133510Z
UID:7820-1752105600-1752191999@prairiewindseventcenter.com
SUMMARY:Booked for Décor
DESCRIPTION:
URL:https://prairiewindseventcenter.com/event/booked-for-decor-24/
LOCATION:Prairie Winds Event Center
CATEGORIES:Weddings & Celebrations
END:VEVENT
BEGIN:VEVENT
DTSTART;VALUE=DATE:20250711
DTEND;VALUE=DATE:20250712
DTSTAMP:20260424T112657
CREATED:20240601T133545Z
LAST-MODIFIED:20240601T133545Z
UID:7823-1752192000-1752278399@prairiewindseventcenter.com
SUMMARY:Van Maaren & Feikema Reception
DESCRIPTION:
URL:https://prairiewindseventcenter.com/event/van-maaren-feikema-reception/
LOCATION:Prairie Winds Event Center
CATEGORIES:Weddings & Celebrations
END:VEVENT
BEGIN:VEVENT
DTSTART;VALUE=DATE:20250712
DTEND;VALUE=DATE:20250713
DTSTAMP:20260424T112657
CREATED:20240328T183926Z
LAST-MODIFIED:20240409T210231Z
UID:7657-1752278400-1752364799@prairiewindseventcenter.com
SUMMARY:Seuntjens & Crocker Reception
DESCRIPTION:
URL:https://prairiewindseventcenter.com/event/date-unavailable-47/
LOCATION:Prairie Winds Event Center
CATEGORIES:Weddings & Celebrations
END:VEVENT
BEGIN:VEVENT
DTSTART;VALUE=DATE:20250718
DTEND;VALUE=DATE:20250719
DTSTAMP:20260424T112657
CREATED:20240301T165221Z
LAST-MODIFIED:20250709T175531Z
UID:7597-1752796800-1752883199@prairiewindseventcenter.com
SUMMARY:RAGBRAI Staff Dinner
DESCRIPTION:
URL:https://prairiewindseventcenter.com/event/booked-for-decor-21/
LOCATION:Prairie Winds Event Center
CATEGORIES:Weddings & Celebrations
END:VEVENT
BEGIN:VEVENT
DTSTART;VALUE=DATE:20250719
DTEND;VALUE=DATE:20250720
DTSTAMP:20260424T112657
CREATED:20240301T165253Z
LAST-MODIFIED:20250320T153254Z
UID:7600-1752883200-1752969599@prairiewindseventcenter.com
SUMMARY:RAGBRAI - DATE UNAVAILABLE
DESCRIPTION:
URL:https://prairiewindseventcenter.com/event/booked-for-wedding-ceremony-reception-8/
LOCATION:Prairie Winds Event Center
CATEGORIES:Weddings & Celebrations
END:VEVENT
BEGIN:VEVENT
DTSTART;VALUE=DATE:20250724
DTEND;VALUE=DATE:20250725
DTSTAMP:20260424T112657
CREATED:20240814T153555Z
LAST-MODIFIED:20240814T153555Z
UID:7956-1753315200-1753401599@prairiewindseventcenter.com
SUMMARY:Booked for Decor
DESCRIPTION:
URL:https://prairiewindseventcenter.com/event/booked-for-decor-28/
LOCATION:Prairie Winds Event Center
CATEGORIES:Weddings & Celebrations
END:VEVENT
BEGIN:VEVENT
DTSTART;VALUE=DATE:20250725
DTEND;VALUE=DATE:20250726
DTSTAMP:20260424T112657
CREATED:20240814T153521Z
LAST-MODIFIED:20240814T153521Z
UID:7954-1753401600-1753487999@prairiewindseventcenter.com
SUMMARY:Weaver Reception
DESCRIPTION:
URL:https://prairiewindseventcenter.com/event/weaver-reception/
LOCATION:Prairie Winds Event Center
CATEGORIES:Weddings & Celebrations
END:VEVENT
BEGIN:VEVENT
DTSTART;VALUE=DATE:20250726
DTEND;VALUE=DATE:20250727
DTSTAMP:20260424T112657
CREATED:20240529T151315Z
LAST-MODIFIED:20240529T151315Z
UID:7817-1753488000-1753574399@prairiewindseventcenter.com
SUMMARY:Blocker & Burns Ceremony/Reception
DESCRIPTION:
URL:https://prairiewindseventcenter.com/event/blocker-burns-ceremony-reception/
LOCATION:Prairie Winds Event Center
CATEGORIES:Weddings & Celebrations
END:VEVENT
END:VCALENDAR