BEGIN:VCALENDAR
VERSION:2.0
PRODID:-//Prairie Winds Event Center - ECPv6.15.20//NONSGML v1.0//EN
CALSCALE:GREGORIAN
METHOD:PUBLISH
X-WR-CALNAME:Prairie Winds Event Center
X-ORIGINAL-URL:https://prairiewindseventcenter.com
X-WR-CALDESC:Events for Prairie Winds Event Center
REFRESH-INTERVAL;VALUE=DURATION:PT1H
X-Robots-Tag:noindex
X-PUBLISHED-TTL:PT1H
BEGIN:VTIMEZONE
TZID:America/Chicago
BEGIN:DAYLIGHT
TZOFFSETFROM:-0600
TZOFFSETTO:-0500
TZNAME:CDT
DTSTART:20240310T080000
END:DAYLIGHT
BEGIN:STANDARD
TZOFFSETFROM:-0500
TZOFFSETTO:-0600
TZNAME:CST
DTSTART:20241103T070000
END:STANDARD
BEGIN:DAYLIGHT
TZOFFSETFROM:-0600
TZOFFSETTO:-0500
TZNAME:CDT
DTSTART:20250309T080000
END:DAYLIGHT
BEGIN:STANDARD
TZOFFSETFROM:-0500
TZOFFSETTO:-0600
TZNAME:CST
DTSTART:20251102T070000
END:STANDARD
BEGIN:DAYLIGHT
TZOFFSETFROM:-0600
TZOFFSETTO:-0500
TZNAME:CDT
DTSTART:20260308T080000
END:DAYLIGHT
BEGIN:STANDARD
TZOFFSETFROM:-0500
TZOFFSETTO:-0600
TZNAME:CST
DTSTART:20261101T070000
END:STANDARD
END:VTIMEZONE
BEGIN:VEVENT
DTSTART;VALUE=DATE:20250606
DTEND;VALUE=DATE:20250607
DTSTAMP:20260424T131409
CREATED:20240220T191930Z
LAST-MODIFIED:20250227T163931Z
UID:7552-1749168000-1749254399@prairiewindseventcenter.com
SUMMARY:Booked for Décor
DESCRIPTION:
URL:https://prairiewindseventcenter.com/event/booked-for-decor-20/
LOCATION:Prairie Winds Event Center
CATEGORIES:Weddings & Celebrations
END:VEVENT
BEGIN:VEVENT
DTSTART;VALUE=DATE:20250607
DTEND;VALUE=DATE:20250608
DTSTAMP:20260424T131409
CREATED:20240220T192129Z
LAST-MODIFIED:20240409T141654Z
UID:7555-1749254400-1749340799@prairiewindseventcenter.com
SUMMARY:Fedders & Van Roekel Ceremony/Reception
DESCRIPTION:
URL:https://prairiewindseventcenter.com/event/booked-for-wedding-ceremony-reception-6/
LOCATION:Prairie Winds Event Center
CATEGORIES:Weddings & Celebrations
END:VEVENT
BEGIN:VEVENT
DTSTART;VALUE=DATE:20250614
DTEND;VALUE=DATE:20250615
DTSTAMP:20260424T131409
CREATED:20231112T203239Z
LAST-MODIFIED:20231112T203239Z
UID:7382-1749859200-1749945599@prairiewindseventcenter.com
SUMMARY:Pierog & Daniels Ceremony/Reception
DESCRIPTION:
URL:https://prairiewindseventcenter.com/event/pierog-daniels-ceremony-reception/
LOCATION:Prairie Winds Event Center
CATEGORIES:Weddings & Celebrations
END:VEVENT
BEGIN:VEVENT
DTSTART;VALUE=DATE:20250619
DTEND;VALUE=DATE:20250620
DTSTAMP:20260424T131409
CREATED:20240730T160843Z
LAST-MODIFIED:20240730T160843Z
UID:7911-1750291200-1750377599@prairiewindseventcenter.com
SUMMARY:Booked for Decor
DESCRIPTION:
URL:https://prairiewindseventcenter.com/event/booked-for-decor-26/
LOCATION:Prairie Winds Event Center
CATEGORIES:Weddings & Celebrations
END:VEVENT
BEGIN:VEVENT
DTSTART;VALUE=DATE:20250620
DTEND;VALUE=DATE:20250621
DTSTAMP:20260424T131409
CREATED:20240730T160820Z
LAST-MODIFIED:20240730T160820Z
UID:7908-1750377600-1750463999@prairiewindseventcenter.com
SUMMARY:Veldman & VandeVegte Reception
DESCRIPTION:
URL:https://prairiewindseventcenter.com/event/veldman-vandevegte-reception/
LOCATION:Prairie Winds Event Center
CATEGORIES:Weddings & Celebrations
END:VEVENT
BEGIN:VEVENT
DTSTART;VALUE=DATE:20250621
DTEND;VALUE=DATE:20250622
DTSTAMP:20260424T131409
CREATED:20240222T190322Z
LAST-MODIFIED:20240222T190322Z
UID:7568-1750464000-1750550399@prairiewindseventcenter.com
SUMMARY:Booked for Wedding Reception
DESCRIPTION:
URL:https://prairiewindseventcenter.com/event/booked-for-wedding-reception-10/
LOCATION:Prairie Winds Event Center
CATEGORIES:Weddings & Celebrations
END:VEVENT
BEGIN:VEVENT
DTSTART;VALUE=DATE:20250626
DTEND;VALUE=DATE:20250627
DTSTAMP:20260424T131409
CREATED:20240823T190345Z
LAST-MODIFIED:20240823T190345Z
UID:7967-1750896000-1750982399@prairiewindseventcenter.com
SUMMARY:Byker & Byl Reception
DESCRIPTION:
URL:https://prairiewindseventcenter.com/event/byker-byl-reception/
LOCATION:Prairie Winds Event Center
CATEGORIES:Weddings & Celebrations
END:VEVENT
BEGIN:VEVENT
DTSTART;VALUE=DATE:20250627
DTEND;VALUE=DATE:20250628
DTSTAMP:20260424T131409
CREATED:20240220T222240Z
LAST-MODIFIED:20240717T155416Z
UID:7558-1750982400-1751068799@prairiewindseventcenter.com
SUMMARY:Visser & Van Beek Reception
DESCRIPTION:
URL:https://prairiewindseventcenter.com/event/booked-for-wedding-reception-9/
LOCATION:Prairie Winds Event Center
CATEGORIES:Weddings & Celebrations
END:VEVENT
BEGIN:VEVENT
DTSTART;VALUE=DATE:20250628
DTEND;VALUE=DATE:20250629
DTSTAMP:20260424T131409
CREATED:20240326T192143Z
LAST-MODIFIED:20240326T192143Z
UID:7650-1751068800-1751155199@prairiewindseventcenter.com
SUMMARY:Reiter & Kannegieter Ceremony/Reception
DESCRIPTION:
URL:https://prairiewindseventcenter.com/event/reiter-kannegieter-ceremony-reception/
LOCATION:Prairie Winds Event Center
CATEGORIES:Weddings & Celebrations
END:VEVENT
END:VCALENDAR