BEGIN:VCALENDAR
VERSION:2.0
PRODID:-//Prairie Winds Event Center - ECPv6.15.20//NONSGML v1.0//EN
CALSCALE:GREGORIAN
METHOD:PUBLISH
X-WR-CALNAME:Prairie Winds Event Center
X-ORIGINAL-URL:https://prairiewindseventcenter.com
X-WR-CALDESC:Events for Prairie Winds Event Center
REFRESH-INTERVAL;VALUE=DURATION:PT1H
X-Robots-Tag:noindex
X-PUBLISHED-TTL:PT1H
BEGIN:VTIMEZONE
TZID:America/Chicago
BEGIN:DAYLIGHT
TZOFFSETFROM:-0600
TZOFFSETTO:-0500
TZNAME:CDT
DTSTART:20240310T080000
END:DAYLIGHT
BEGIN:STANDARD
TZOFFSETFROM:-0500
TZOFFSETTO:-0600
TZNAME:CST
DTSTART:20241103T070000
END:STANDARD
BEGIN:DAYLIGHT
TZOFFSETFROM:-0600
TZOFFSETTO:-0500
TZNAME:CDT
DTSTART:20250309T080000
END:DAYLIGHT
BEGIN:STANDARD
TZOFFSETFROM:-0500
TZOFFSETTO:-0600
TZNAME:CST
DTSTART:20251102T070000
END:STANDARD
BEGIN:DAYLIGHT
TZOFFSETFROM:-0600
TZOFFSETTO:-0500
TZNAME:CDT
DTSTART:20260308T080000
END:DAYLIGHT
BEGIN:STANDARD
TZOFFSETFROM:-0500
TZOFFSETTO:-0600
TZNAME:CST
DTSTART:20261101T070000
END:STANDARD
END:VTIMEZONE
BEGIN:VEVENT
DTSTART;VALUE=DATE:20250502
DTEND;VALUE=DATE:20250503
DTSTAMP:20260424T145034
CREATED:20250227T163657Z
LAST-MODIFIED:20250227T163934Z
UID:8423-1746144000-1746230399@prairiewindseventcenter.com
SUMMARY:Booked for Decor & Rehersal
DESCRIPTION:
URL:https://prairiewindseventcenter.com/event/booked-for-decor-rehersal/
LOCATION:Prairie Winds Event Center
CATEGORIES:Weddings & Celebrations
END:VEVENT
BEGIN:VEVENT
DTSTART;VALUE=DATE:20250503
DTEND;VALUE=DATE:20250504
DTSTAMP:20260424T145034
CREATED:20240306T155032Z
LAST-MODIFIED:20240306T155032Z
UID:7611-1746230400-1746316799@prairiewindseventcenter.com
SUMMARY:Dodd & Hamann Ceremony/Reception
DESCRIPTION:
URL:https://prairiewindseventcenter.com/event/dodd-hamann-ceremony-reception/
LOCATION:Prairie Winds Event Center
CATEGORIES:Weddings & Celebrations
END:VEVENT
BEGIN:VEVENT
DTSTART;VALUE=DATE:20250511
DTEND;VALUE=DATE:20250512
DTSTAMP:20260424T145034
CREATED:20240731T160147Z
LAST-MODIFIED:20240731T160147Z
UID:7922-1746921600-1747007999@prairiewindseventcenter.com
SUMMARY:Toomey & Fergen Ceremony/Reception
DESCRIPTION:
URL:https://prairiewindseventcenter.com/event/toomey-fergen-ceremony-reception/
LOCATION:Prairie Winds Event Center
CATEGORIES:Weddings & Celebrations
END:VEVENT
BEGIN:VEVENT
DTSTART;VALUE=DATE:20250524
DTEND;VALUE=DATE:20250525
DTSTAMP:20260424T145034
CREATED:20240222T213103Z
LAST-MODIFIED:20240222T213103Z
UID:7571-1748044800-1748131199@prairiewindseventcenter.com
SUMMARY:Booked for Wedding Ceremony/Reception
DESCRIPTION:
URL:https://prairiewindseventcenter.com/event/booked-for-wedding-ceremony-reception-7/
LOCATION:Prairie Winds Event Center\, 908 8th Street SE\, Orange City\, IA\, 51041\, United States
CATEGORIES:Weddings & Celebrations
END:VEVENT
BEGIN:VEVENT
DTSTART;VALUE=DATE:20250530
DTEND;VALUE=DATE:20250531
DTSTAMP:20260424T145034
CREATED:20240821T200934Z
LAST-MODIFIED:20240821T200934Z
UID:7964-1748563200-1748649599@prairiewindseventcenter.com
SUMMARY:Ammons & Landman Ceremony/Reception
DESCRIPTION:
URL:https://prairiewindseventcenter.com/event/ammons-landman-ceremony-reception/
LOCATION:Prairie Winds Event Center
CATEGORIES:Weddings & Celebrations
END:VEVENT
BEGIN:VEVENT
DTSTART;VALUE=DATE:20250531
DTEND;VALUE=DATE:20250601
DTSTAMP:20260424T145034
CREATED:20240227T213815Z
LAST-MODIFIED:20240227T213815Z
UID:7585-1748649600-1748735999@prairiewindseventcenter.com
SUMMARY:Turek & Paredes Ceremony/Reception
DESCRIPTION:
URL:https://prairiewindseventcenter.com/event/turek-paredes-ceremony-reception/
LOCATION:Prairie Winds Event Center
CATEGORIES:Weddings & Celebrations
END:VEVENT
END:VCALENDAR