BEGIN:VCALENDAR
VERSION:2.0
PRODID:-//Prairie Winds Event Center - ECPv6.15.20//NONSGML v1.0//EN
CALSCALE:GREGORIAN
METHOD:PUBLISH
X-ORIGINAL-URL:https://prairiewindseventcenter.com
X-WR-CALDESC:Events for Prairie Winds Event Center
REFRESH-INTERVAL;VALUE=DURATION:PT1H
X-Robots-Tag:noindex
X-PUBLISHED-TTL:PT1H
BEGIN:VTIMEZONE
TZID:America/Chicago
BEGIN:DAYLIGHT
TZOFFSETFROM:-0600
TZOFFSETTO:-0500
TZNAME:CDT
DTSTART:20230312T080000
END:DAYLIGHT
BEGIN:STANDARD
TZOFFSETFROM:-0500
TZOFFSETTO:-0600
TZNAME:CST
DTSTART:20231105T070000
END:STANDARD
BEGIN:DAYLIGHT
TZOFFSETFROM:-0600
TZOFFSETTO:-0500
TZNAME:CDT
DTSTART:20240310T080000
END:DAYLIGHT
BEGIN:STANDARD
TZOFFSETFROM:-0500
TZOFFSETTO:-0600
TZNAME:CST
DTSTART:20241103T070000
END:STANDARD
BEGIN:DAYLIGHT
TZOFFSETFROM:-0600
TZOFFSETTO:-0500
TZNAME:CDT
DTSTART:20250309T080000
END:DAYLIGHT
BEGIN:STANDARD
TZOFFSETFROM:-0500
TZOFFSETTO:-0600
TZNAME:CST
DTSTART:20251102T070000
END:STANDARD
END:VTIMEZONE
BEGIN:VEVENT
DTSTART;VALUE=DATE:20241213
DTEND;VALUE=DATE:20241214
DTSTAMP:20260424T225706
CREATED:20240627T230542Z
LAST-MODIFIED:20240627T230542Z
UID:7846-1734048000-1734134399@prairiewindseventcenter.com
SUMMARY:Huizenga & Hofman Ceremony/Reception
DESCRIPTION:
URL:https://prairiewindseventcenter.com/event/huizenga-hofman-ceremony-reception/
LOCATION:Prairie Winds Event Center
CATEGORIES:Weddings & Celebrations
END:VEVENT
BEGIN:VEVENT
DTSTART;VALUE=DATE:20241214
DTEND;VALUE=DATE:20241215
DTSTAMP:20260424T225706
CREATED:20230725T204331Z
LAST-MODIFIED:20230725T204543Z
UID:7230-1734134400-1734220799@prairiewindseventcenter.com
SUMMARY:Booked for Ceremony/Reception
DESCRIPTION:
URL:https://prairiewindseventcenter.com/event/denekas-dixon-ceremony-reception/
CATEGORIES:Weddings & Celebrations
END:VEVENT
BEGIN:VEVENT
DTSTART;VALUE=DATE:20241219
DTEND;VALUE=DATE:20241220
DTSTAMP:20260424T225706
CREATED:20240809T144638Z
LAST-MODIFIED:20240809T144638Z
UID:7941-1734566400-1734652799@prairiewindseventcenter.com
SUMMARY:Booked for Decor
DESCRIPTION:
URL:https://prairiewindseventcenter.com/event/booked-for-decor-27/
LOCATION:Prairie Winds Event Center
CATEGORIES:Weddings & Celebrations
END:VEVENT
BEGIN:VEVENT
DTSTART;VALUE=DATE:20241220
DTEND;VALUE=DATE:20241221
DTSTAMP:20260424T225706
CREATED:20240809T145048Z
LAST-MODIFIED:20240809T145048Z
UID:7944-1734652800-1734739199@prairiewindseventcenter.com
SUMMARY:Private Wedding Ceremony/Reception
DESCRIPTION:
URL:https://prairiewindseventcenter.com/event/private-wedding-ceremony-reception/
LOCATION:Prairie Winds Event Center
CATEGORIES:Weddings & Celebrations
END:VEVENT
BEGIN:VEVENT
DTSTART;VALUE=DATE:20241227
DTEND;VALUE=DATE:20241228
DTSTAMP:20260424T225706
CREATED:20240516T141807Z
LAST-MODIFIED:20240516T141807Z
UID:7806-1735257600-1735343999@prairiewindseventcenter.com
SUMMARY:Booked for Décor
DESCRIPTION:
URL:https://prairiewindseventcenter.com/event/booked-for-decor-23/
LOCATION:Prairie Winds Event Center
CATEGORIES:Weddings & Celebrations
END:VEVENT
BEGIN:VEVENT
DTSTART;VALUE=DATE:20241228
DTEND;VALUE=DATE:20241229
DTSTAMP:20260424T225706
CREATED:20240516T141920Z
LAST-MODIFIED:20240516T141920Z
UID:7809-1735344000-1735430399@prairiewindseventcenter.com
SUMMARY:Ogles & Smith Ceremony/Reception
DESCRIPTION:
URL:https://prairiewindseventcenter.com/event/ogles-smith-ceremony-reception/
LOCATION:Prairie Winds Event Center
CATEGORIES:Weddings & Celebrations
END:VEVENT
END:VCALENDAR