BEGIN:VCALENDAR
VERSION:2.0
PRODID:-//Prairie Winds Event Center - ECPv6.15.20//NONSGML v1.0//EN
CALSCALE:GREGORIAN
METHOD:PUBLISH
X-WR-CALNAME:Prairie Winds Event Center
X-ORIGINAL-URL:https://prairiewindseventcenter.com
X-WR-CALDESC:Events for Prairie Winds Event Center
REFRESH-INTERVAL;VALUE=DURATION:PT1H
X-Robots-Tag:noindex
X-PUBLISHED-TTL:PT1H
BEGIN:VTIMEZONE
TZID:America/Chicago
BEGIN:DAYLIGHT
TZOFFSETFROM:-0600
TZOFFSETTO:-0500
TZNAME:CDT
DTSTART:20230312T080000
END:DAYLIGHT
BEGIN:STANDARD
TZOFFSETFROM:-0500
TZOFFSETTO:-0600
TZNAME:CST
DTSTART:20231105T070000
END:STANDARD
BEGIN:DAYLIGHT
TZOFFSETFROM:-0600
TZOFFSETTO:-0500
TZNAME:CDT
DTSTART:20240310T080000
END:DAYLIGHT
BEGIN:STANDARD
TZOFFSETFROM:-0500
TZOFFSETTO:-0600
TZNAME:CST
DTSTART:20241103T070000
END:STANDARD
BEGIN:DAYLIGHT
TZOFFSETFROM:-0600
TZOFFSETTO:-0500
TZNAME:CDT
DTSTART:20250309T080000
END:DAYLIGHT
BEGIN:STANDARD
TZOFFSETFROM:-0500
TZOFFSETTO:-0600
TZNAME:CST
DTSTART:20251102T070000
END:STANDARD
END:VTIMEZONE
BEGIN:VEVENT
DTSTART;VALUE=DATE:20240703
DTEND;VALUE=DATE:20240704
DTSTAMP:20260425T054051
CREATED:20240323T195426Z
LAST-MODIFIED:20240323T195426Z
UID:7643-1719964800-1720051199@prairiewindseventcenter.com
SUMMARY:Wittrock & Maggert Ceremony/Reception
DESCRIPTION:
URL:https://prairiewindseventcenter.com/event/wittrock-maggert-ceremony-reception/
LOCATION:Prairie Winds Event Center
CATEGORIES:Weddings & Celebrations
END:VEVENT
BEGIN:VEVENT
DTSTART;VALUE=DATE:20240712
DTEND;VALUE=DATE:20240713
DTSTAMP:20260425T054051
CREATED:20230516T193817Z
LAST-MODIFIED:20230516T193817Z
UID:6797-1720742400-1720828799@prairiewindseventcenter.com
SUMMARY:Booked for Décor
DESCRIPTION:
URL:https://prairiewindseventcenter.com/event/booked-for-decor-6/
LOCATION:Prairie Winds Event Center
CATEGORIES:Weddings & Celebrations
END:VEVENT
BEGIN:VEVENT
DTSTART;VALUE=DATE:20240713
DTEND;VALUE=DATE:20240714
DTSTAMP:20260425T054051
CREATED:20230516T193849Z
LAST-MODIFIED:20230516T193849Z
UID:6799-1720828800-1720915199@prairiewindseventcenter.com
SUMMARY:Booked for Wedding Ceremony/Reception
DESCRIPTION:
URL:https://prairiewindseventcenter.com/event/booked-for-wedding-ceremony-reception/
LOCATION:Prairie Winds Event Center
CATEGORIES:Weddings & Celebrations
END:VEVENT
BEGIN:VEVENT
DTSTART;VALUE=DATE:20240718
DTEND;VALUE=DATE:20240719
DTSTAMP:20260425T054051
CREATED:20230805T131837Z
LAST-MODIFIED:20230805T131837Z
UID:7261-1721260800-1721347199@prairiewindseventcenter.com
SUMMARY:Booked for Decor
DESCRIPTION:
URL:https://prairiewindseventcenter.com/event/booked-for-decor-16/
LOCATION:Prairie Winds Event Center
CATEGORIES:Weddings & Celebrations
END:VEVENT
BEGIN:VEVENT
DTSTART;VALUE=DATE:20240719
DTEND;VALUE=DATE:20240720
DTSTAMP:20260425T054051
CREATED:20230805T131917Z
LAST-MODIFIED:20230805T131917Z
UID:7264-1721347200-1721433599@prairiewindseventcenter.com
SUMMARY:Zomermaand & Jensen Ceremony/Reception
DESCRIPTION:
URL:https://prairiewindseventcenter.com/event/zomermaand-jensen-ceremony-reception/
LOCATION:Prairie Winds Event Center
CATEGORIES:Weddings & Celebrations
END:VEVENT
BEGIN:VEVENT
DTSTART;VALUE=DATE:20240720
DTEND;VALUE=DATE:20240721
DTSTAMP:20260425T054051
CREATED:20230513T153637Z
LAST-MODIFIED:20230513T153637Z
UID:6794-1721433600-1721519999@prairiewindseventcenter.com
SUMMARY:Weiland & Zenk Reception
DESCRIPTION:
URL:https://prairiewindseventcenter.com/event/weiland-zenk-reception/
LOCATION:Prairie Winds Event Center
CATEGORIES:Weddings & Celebrations
END:VEVENT
BEGIN:VEVENT
DTSTART;VALUE=DATE:20240725
DTEND;VALUE=DATE:20240726
DTSTAMP:20260425T054051
CREATED:20230711T172616Z
LAST-MODIFIED:20230711T172616Z
UID:7203-1721865600-1721951999@prairiewindseventcenter.com
SUMMARY:Booked for Décor
DESCRIPTION:
URL:https://prairiewindseventcenter.com/event/booked-for-decor-13/
LOCATION:Prairie Winds Event Center
CATEGORIES:Weddings & Celebrations
END:VEVENT
BEGIN:VEVENT
DTSTART;VALUE=DATE:20240726
DTEND;VALUE=DATE:20240727
DTSTAMP:20260425T054051
CREATED:20230711T172640Z
LAST-MODIFIED:20230816T153219Z
UID:7206-1721952000-1722038399@prairiewindseventcenter.com
SUMMARY:Wolfswinkel & Moreau Reception
DESCRIPTION:
URL:https://prairiewindseventcenter.com/event/booked-for-wedding-reception-3/
LOCATION:Prairie Winds Event Center
CATEGORIES:Weddings & Celebrations
END:VEVENT
BEGIN:VEVENT
DTSTART;VALUE=DATE:20240727
DTEND;VALUE=DATE:20240728
DTSTAMP:20260425T054051
CREATED:20240307T201149Z
LAST-MODIFIED:20240307T201149Z
UID:7616-1722038400-1722124799@prairiewindseventcenter.com
SUMMARY:Rothmeier & Krosschell Ceremony/Reception
DESCRIPTION:
URL:https://prairiewindseventcenter.com/event/rothmeier-krosschell-ceremony-reception/
LOCATION:Prairie Winds Event Center
CATEGORIES:Weddings & Celebrations
END:VEVENT
END:VCALENDAR