BEGIN:VCALENDAR
VERSION:2.0
PRODID:-//Prairie Winds Event Center - ECPv6.15.20//NONSGML v1.0//EN
CALSCALE:GREGORIAN
METHOD:PUBLISH
X-ORIGINAL-URL:https://prairiewindseventcenter.com
X-WR-CALDESC:Events for Prairie Winds Event Center
REFRESH-INTERVAL;VALUE=DURATION:PT1H
X-Robots-Tag:noindex
X-PUBLISHED-TTL:PT1H
BEGIN:VTIMEZONE
TZID:America/Chicago
BEGIN:DAYLIGHT
TZOFFSETFROM:-0600
TZOFFSETTO:-0500
TZNAME:CDT
DTSTART:20220313T080000
END:DAYLIGHT
BEGIN:STANDARD
TZOFFSETFROM:-0500
TZOFFSETTO:-0600
TZNAME:CST
DTSTART:20221106T070000
END:STANDARD
BEGIN:DAYLIGHT
TZOFFSETFROM:-0600
TZOFFSETTO:-0500
TZNAME:CDT
DTSTART:20230312T080000
END:DAYLIGHT
BEGIN:STANDARD
TZOFFSETFROM:-0500
TZOFFSETTO:-0600
TZNAME:CST
DTSTART:20231105T070000
END:STANDARD
BEGIN:DAYLIGHT
TZOFFSETFROM:-0600
TZOFFSETTO:-0500
TZNAME:CDT
DTSTART:20240310T080000
END:DAYLIGHT
BEGIN:STANDARD
TZOFFSETFROM:-0500
TZOFFSETTO:-0600
TZNAME:CST
DTSTART:20241103T070000
END:STANDARD
END:VTIMEZONE
BEGIN:VEVENT
DTSTART;VALUE=DATE:20231009
DTEND;VALUE=DATE:20231010
DTSTAMP:20260425T183006
CREATED:20230523T164005Z
LAST-MODIFIED:20230523T164005Z
UID:6809-1696809600-1696895999@prairiewindseventcenter.com
SUMMARY:ISB All Employee Training
DESCRIPTION:
URL:https://prairiewindseventcenter.com/event/isb-all-employee-training/
LOCATION:Prairie Winds Event Center
CATEGORIES:Weddings & Celebrations
END:VEVENT
BEGIN:VEVENT
DTSTART;VALUE=DATE:20231014
DTEND;VALUE=DATE:20231015
DTSTAMP:20260425T183006
CREATED:20221028T142304Z
LAST-MODIFIED:20221028T142304Z
UID:6230-1697241600-1697327999@prairiewindseventcenter.com
SUMMARY:Schuelke & Hulstein Reception
DESCRIPTION:
URL:https://prairiewindseventcenter.com/event/schuelke-hulstein-reception/
LOCATION:Prairie Winds Event Center\, 908 8th Street SE\, Orange City\, IA\, 51041\, United States
CATEGORIES:Weddings & Celebrations
END:VEVENT
BEGIN:VEVENT
DTSTART;VALUE=DATE:20231028
DTEND;VALUE=DATE:20231029
DTSTAMP:20260425T183006
CREATED:20220805T180826Z
LAST-MODIFIED:20220805T180826Z
UID:5937-1698451200-1698537599@prairiewindseventcenter.com
SUMMARY:Voss & Hewlett Ceremony/Reception
DESCRIPTION:
URL:https://prairiewindseventcenter.com/event/voss-hewlett-ceremony-reception/
LOCATION:Prairie Winds Event Center\, 908 8th Street SE\, Orange City\, IA\, 51041\, United States
CATEGORIES:Weddings & Celebrations
END:VEVENT
END:VCALENDAR