BEGIN:VCALENDAR
VERSION:2.0
PRODID:-//Prairie Winds Event Center - ECPv6.15.20//NONSGML v1.0//EN
CALSCALE:GREGORIAN
METHOD:PUBLISH
X-ORIGINAL-URL:https://prairiewindseventcenter.com
X-WR-CALDESC:Events for Prairie Winds Event Center
REFRESH-INTERVAL;VALUE=DURATION:PT1H
X-Robots-Tag:noindex
X-PUBLISHED-TTL:PT1H
BEGIN:VTIMEZONE
TZID:America/Chicago
BEGIN:DAYLIGHT
TZOFFSETFROM:-0600
TZOFFSETTO:-0500
TZNAME:CDT
DTSTART:20230312T080000
END:DAYLIGHT
BEGIN:STANDARD
TZOFFSETFROM:-0500
TZOFFSETTO:-0600
TZNAME:CST
DTSTART:20231105T070000
END:STANDARD
BEGIN:DAYLIGHT
TZOFFSETFROM:-0600
TZOFFSETTO:-0500
TZNAME:CDT
DTSTART:20240310T080000
END:DAYLIGHT
BEGIN:STANDARD
TZOFFSETFROM:-0500
TZOFFSETTO:-0600
TZNAME:CST
DTSTART:20241103T070000
END:STANDARD
BEGIN:DAYLIGHT
TZOFFSETFROM:-0600
TZOFFSETTO:-0500
TZNAME:CDT
DTSTART:20250309T080000
END:DAYLIGHT
BEGIN:STANDARD
TZOFFSETFROM:-0500
TZOFFSETTO:-0600
TZNAME:CST
DTSTART:20251102T070000
END:STANDARD
END:VTIMEZONE
BEGIN:VEVENT
DTSTART;VALUE=DATE:20240830
DTEND;VALUE=DATE:20240902
DTSTAMP:20260424T055217
CREATED:20230530T160856Z
LAST-MODIFIED:20230530T160856Z
UID:6861-1724976000-1725235199@prairiewindseventcenter.com
SUMMARY:Holiday Pricing
DESCRIPTION:
URL:https://prairiewindseventcenter.com/event/holiday-pricing-6/
CATEGORIES:Holiday
END:VEVENT
BEGIN:VEVENT
DTSTART;VALUE=DATE:20240901
DTEND;VALUE=DATE:20240902
DTSTAMP:20260424T055217
CREATED:20220720T184703Z
LAST-MODIFIED:20220720T184703Z
UID:6011-1725148800-1725235199@prairiewindseventcenter.com
SUMMARY:Holiday Pricing-Sunday Rental
DESCRIPTION:
URL:https://prairiewindseventcenter.com/event/holiday-pricing-sunday-rental-5-2024-09-01/
LOCATION:Prairie Winds Event Center\, 908 8th Street SE\, Orange City\, IA\, 51041\, United States
CATEGORIES:Holiday
END:VEVENT
BEGIN:VEVENT
DTSTART;VALUE=DATE:20240902
DTEND;VALUE=DATE:20240903
DTSTAMP:20260424T055217
CREATED:20230530T160814Z
LAST-MODIFIED:20230530T160814Z
UID:6858-1725235200-1725321599@prairiewindseventcenter.com
SUMMARY:Date Unavailable
DESCRIPTION:
URL:https://prairiewindseventcenter.com/event/date-unavailable-27/
CATEGORIES:Holiday
END:VEVENT
BEGIN:VEVENT
DTSTART;VALUE=DATE:20240908
DTEND;VALUE=DATE:20240909
DTSTAMP:20260424T055217
CREATED:20220720T184703Z
LAST-MODIFIED:20220720T184703Z
UID:6070-1725753600-1725839999@prairiewindseventcenter.com
SUMMARY:Holiday Pricing-Sunday Rental
DESCRIPTION:
URL:https://prairiewindseventcenter.com/event/holiday-pricing-sunday-rental-5-2024-09-08/
LOCATION:Prairie Winds Event Center\, 908 8th Street SE\, Orange City\, IA\, 51041\, United States
CATEGORIES:Holiday
END:VEVENT
BEGIN:VEVENT
DTSTART;VALUE=DATE:20240915
DTEND;VALUE=DATE:20240916
DTSTAMP:20260424T055217
CREATED:20220720T184703Z
LAST-MODIFIED:20220720T184703Z
UID:6085-1726358400-1726444799@prairiewindseventcenter.com
SUMMARY:Holiday Pricing-Sunday Rental
DESCRIPTION:
URL:https://prairiewindseventcenter.com/event/holiday-pricing-sunday-rental-5-2024-09-15/
LOCATION:Prairie Winds Event Center\, 908 8th Street SE\, Orange City\, IA\, 51041\, United States
CATEGORIES:Holiday
END:VEVENT
BEGIN:VEVENT
DTSTART;VALUE=DATE:20240922
DTEND;VALUE=DATE:20240923
DTSTAMP:20260424T055217
CREATED:20220720T184703Z
LAST-MODIFIED:20220720T184703Z
UID:6090-1726963200-1727049599@prairiewindseventcenter.com
SUMMARY:Holiday Pricing-Sunday Rental
DESCRIPTION:
URL:https://prairiewindseventcenter.com/event/holiday-pricing-sunday-rental-5-2024-09-22/
LOCATION:Prairie Winds Event Center\, 908 8th Street SE\, Orange City\, IA\, 51041\, United States
CATEGORIES:Holiday
END:VEVENT
BEGIN:VEVENT
DTSTART;VALUE=DATE:20240929
DTEND;VALUE=DATE:20240930
DTSTAMP:20260424T055217
CREATED:20220720T184703Z
LAST-MODIFIED:20220720T184703Z
UID:6114-1727568000-1727654399@prairiewindseventcenter.com
SUMMARY:Holiday Pricing-Sunday Rental
DESCRIPTION:
URL:https://prairiewindseventcenter.com/event/holiday-pricing-sunday-rental-5-2024-09-29/
LOCATION:Prairie Winds Event Center\, 908 8th Street SE\, Orange City\, IA\, 51041\, United States
CATEGORIES:Holiday
END:VEVENT
END:VCALENDAR