BEGIN:VCALENDAR
VERSION:2.0
PRODID:-//Prairie Winds Event Center - ECPv6.15.20//NONSGML v1.0//EN
CALSCALE:GREGORIAN
METHOD:PUBLISH
X-WR-CALNAME:Prairie Winds Event Center
X-ORIGINAL-URL:https://prairiewindseventcenter.com
X-WR-CALDESC:Events for Prairie Winds Event Center
REFRESH-INTERVAL;VALUE=DURATION:PT1H
X-Robots-Tag:noindex
X-PUBLISHED-TTL:PT1H
BEGIN:VTIMEZONE
TZID:America/Chicago
BEGIN:DAYLIGHT
TZOFFSETFROM:-0600
TZOFFSETTO:-0500
TZNAME:CDT
DTSTART:20230312T080000
END:DAYLIGHT
BEGIN:STANDARD
TZOFFSETFROM:-0500
TZOFFSETTO:-0600
TZNAME:CST
DTSTART:20231105T070000
END:STANDARD
BEGIN:DAYLIGHT
TZOFFSETFROM:-0600
TZOFFSETTO:-0500
TZNAME:CDT
DTSTART:20240310T080000
END:DAYLIGHT
BEGIN:STANDARD
TZOFFSETFROM:-0500
TZOFFSETTO:-0600
TZNAME:CST
DTSTART:20241103T070000
END:STANDARD
BEGIN:DAYLIGHT
TZOFFSETFROM:-0600
TZOFFSETTO:-0500
TZNAME:CDT
DTSTART:20250309T080000
END:DAYLIGHT
BEGIN:STANDARD
TZOFFSETFROM:-0500
TZOFFSETTO:-0600
TZNAME:CST
DTSTART:20251102T070000
END:STANDARD
END:VTIMEZONE
BEGIN:VEVENT
DTSTART;VALUE=DATE:20240804
DTEND;VALUE=DATE:20240805
DTSTAMP:20260424T072003
CREATED:20220720T184703Z
LAST-MODIFIED:20220720T184703Z
UID:5940-1722729600-1722815999@prairiewindseventcenter.com
SUMMARY:Holiday Pricing-Sunday Rental
DESCRIPTION:
URL:https://prairiewindseventcenter.com/event/holiday-pricing-sunday-rental-5-2024-08-04/
LOCATION:Prairie Winds Event Center\, 908 8th Street SE\, Orange City\, IA\, 51041\, United States
CATEGORIES:Holiday
END:VEVENT
BEGIN:VEVENT
DTSTART;VALUE=DATE:20240811
DTEND;VALUE=DATE:20240812
DTSTAMP:20260424T072003
CREATED:20220720T184703Z
LAST-MODIFIED:20220720T184703Z
UID:5950-1723334400-1723420799@prairiewindseventcenter.com
SUMMARY:Holiday Pricing-Sunday Rental
DESCRIPTION:
URL:https://prairiewindseventcenter.com/event/holiday-pricing-sunday-rental-5-2024-08-11/
LOCATION:Prairie Winds Event Center\, 908 8th Street SE\, Orange City\, IA\, 51041\, United States
CATEGORIES:Holiday
END:VEVENT
BEGIN:VEVENT
DTSTART;VALUE=DATE:20240818
DTEND;VALUE=DATE:20240819
DTSTAMP:20260424T072003
CREATED:20220720T184703Z
LAST-MODIFIED:20220720T184703Z
UID:5967-1723939200-1724025599@prairiewindseventcenter.com
SUMMARY:Holiday Pricing-Sunday Rental
DESCRIPTION:
URL:https://prairiewindseventcenter.com/event/holiday-pricing-sunday-rental-5-2024-08-18/
LOCATION:Prairie Winds Event Center\, 908 8th Street SE\, Orange City\, IA\, 51041\, United States
CATEGORIES:Holiday
END:VEVENT
BEGIN:VEVENT
DTSTART;VALUE=DATE:20240825
DTEND;VALUE=DATE:20240826
DTSTAMP:20260424T072003
CREATED:20220720T184703Z
LAST-MODIFIED:20220720T184703Z
UID:5985-1724544000-1724630399@prairiewindseventcenter.com
SUMMARY:Holiday Pricing-Sunday Rental
DESCRIPTION:
URL:https://prairiewindseventcenter.com/event/holiday-pricing-sunday-rental-5-2024-08-25/
LOCATION:Prairie Winds Event Center\, 908 8th Street SE\, Orange City\, IA\, 51041\, United States
CATEGORIES:Holiday
END:VEVENT
BEGIN:VEVENT
DTSTART;VALUE=DATE:20240830
DTEND;VALUE=DATE:20240902
DTSTAMP:20260424T072003
CREATED:20230530T160856Z
LAST-MODIFIED:20230530T160856Z
UID:6861-1724976000-1725235199@prairiewindseventcenter.com
SUMMARY:Holiday Pricing
DESCRIPTION:
URL:https://prairiewindseventcenter.com/event/holiday-pricing-6/
CATEGORIES:Holiday
END:VEVENT
END:VCALENDAR