BEGIN:VCALENDAR
VERSION:2.0
PRODID:-//Prairie Winds Event Center - ECPv6.15.20//NONSGML v1.0//EN
CALSCALE:GREGORIAN
METHOD:PUBLISH
X-ORIGINAL-URL:https://prairiewindseventcenter.com
X-WR-CALDESC:Events for Prairie Winds Event Center
REFRESH-INTERVAL;VALUE=DURATION:PT1H
X-Robots-Tag:noindex
X-PUBLISHED-TTL:PT1H
BEGIN:VTIMEZONE
TZID:America/Chicago
BEGIN:DAYLIGHT
TZOFFSETFROM:-0600
TZOFFSETTO:-0500
TZNAME:CDT
DTSTART:20230312T080000
END:DAYLIGHT
BEGIN:STANDARD
TZOFFSETFROM:-0500
TZOFFSETTO:-0600
TZNAME:CST
DTSTART:20231105T070000
END:STANDARD
BEGIN:DAYLIGHT
TZOFFSETFROM:-0600
TZOFFSETTO:-0500
TZNAME:CDT
DTSTART:20240310T080000
END:DAYLIGHT
BEGIN:STANDARD
TZOFFSETFROM:-0500
TZOFFSETTO:-0600
TZNAME:CST
DTSTART:20241103T070000
END:STANDARD
BEGIN:DAYLIGHT
TZOFFSETFROM:-0600
TZOFFSETTO:-0500
TZNAME:CDT
DTSTART:20250309T080000
END:DAYLIGHT
BEGIN:STANDARD
TZOFFSETFROM:-0500
TZOFFSETTO:-0600
TZNAME:CST
DTSTART:20251102T070000
END:STANDARD
END:VTIMEZONE
BEGIN:VEVENT
DTSTART;VALUE=DATE:20240704
DTEND;VALUE=DATE:20240705
DTSTAMP:20260424T090401
CREATED:20230530T160714Z
LAST-MODIFIED:20230530T160714Z
UID:6852-1720051200-1720137599@prairiewindseventcenter.com
SUMMARY:Date Unavailable
DESCRIPTION:
URL:https://prairiewindseventcenter.com/event/date-unavailable-26/
CATEGORIES:Holiday
END:VEVENT
BEGIN:VEVENT
DTSTART;VALUE=DATE:20240705
DTEND;VALUE=DATE:20240707
DTSTAMP:20260424T090401
CREATED:20230530T160740Z
LAST-MODIFIED:20230530T160740Z
UID:6855-1720137600-1720310399@prairiewindseventcenter.com
SUMMARY:Holiday Pricing
DESCRIPTION:
URL:https://prairiewindseventcenter.com/event/holiday-pricing-5/
CATEGORIES:Holiday
END:VEVENT
BEGIN:VEVENT
DTSTART;VALUE=DATE:20240707
DTEND;VALUE=DATE:20240708
DTSTAMP:20260424T090401
CREATED:20220720T184703Z
LAST-MODIFIED:20220720T184703Z
UID:5886-1720310400-1720396799@prairiewindseventcenter.com
SUMMARY:Holiday Pricing-Sunday Rental
DESCRIPTION:
URL:https://prairiewindseventcenter.com/event/holiday-pricing-sunday-rental-5-2024-07-07/
LOCATION:Prairie Winds Event Center\, 908 8th Street SE\, Orange City\, IA\, 51041\, United States
CATEGORIES:Holiday
END:VEVENT
BEGIN:VEVENT
DTSTART;VALUE=DATE:20240714
DTEND;VALUE=DATE:20240715
DTSTAMP:20260424T090401
CREATED:20220720T184703Z
LAST-MODIFIED:20220720T184703Z
UID:5887-1720915200-1721001599@prairiewindseventcenter.com
SUMMARY:Holiday Pricing-Sunday Rental
DESCRIPTION:
URL:https://prairiewindseventcenter.com/event/holiday-pricing-sunday-rental-5-2024-07-14/
LOCATION:Prairie Winds Event Center\, 908 8th Street SE\, Orange City\, IA\, 51041\, United States
CATEGORIES:Holiday
END:VEVENT
BEGIN:VEVENT
DTSTART;VALUE=DATE:20240721
DTEND;VALUE=DATE:20240722
DTSTAMP:20260424T090401
CREATED:20220720T184703Z
LAST-MODIFIED:20220720T184703Z
UID:5912-1721520000-1721606399@prairiewindseventcenter.com
SUMMARY:Holiday Pricing-Sunday Rental
DESCRIPTION:
URL:https://prairiewindseventcenter.com/event/holiday-pricing-sunday-rental-5-2024-07-21/
LOCATION:Prairie Winds Event Center\, 908 8th Street SE\, Orange City\, IA\, 51041\, United States
CATEGORIES:Holiday
END:VEVENT
BEGIN:VEVENT
DTSTART;VALUE=DATE:20240728
DTEND;VALUE=DATE:20240729
DTSTAMP:20260424T090401
CREATED:20220720T184703Z
LAST-MODIFIED:20220720T184703Z
UID:5920-1722124800-1722211199@prairiewindseventcenter.com
SUMMARY:Holiday Pricing-Sunday Rental
DESCRIPTION:
URL:https://prairiewindseventcenter.com/event/holiday-pricing-sunday-rental-5-2024-07-28/
LOCATION:Prairie Winds Event Center\, 908 8th Street SE\, Orange City\, IA\, 51041\, United States
CATEGORIES:Holiday
END:VEVENT
END:VCALENDAR