BEGIN:VCALENDAR
VERSION:2.0
PRODID:-//Prairie Winds Event Center - ECPv6.15.20//NONSGML v1.0//EN
CALSCALE:GREGORIAN
METHOD:PUBLISH
X-WR-CALNAME:Prairie Winds Event Center
X-ORIGINAL-URL:https://prairiewindseventcenter.com
X-WR-CALDESC:Events for Prairie Winds Event Center
REFRESH-INTERVAL;VALUE=DURATION:PT1H
X-Robots-Tag:noindex
X-PUBLISHED-TTL:PT1H
BEGIN:VTIMEZONE
TZID:America/Chicago
BEGIN:DAYLIGHT
TZOFFSETFROM:-0600
TZOFFSETTO:-0500
TZNAME:CDT
DTSTART:20230312T080000
END:DAYLIGHT
BEGIN:STANDARD
TZOFFSETFROM:-0500
TZOFFSETTO:-0600
TZNAME:CST
DTSTART:20231105T070000
END:STANDARD
BEGIN:DAYLIGHT
TZOFFSETFROM:-0600
TZOFFSETTO:-0500
TZNAME:CDT
DTSTART:20240310T080000
END:DAYLIGHT
BEGIN:STANDARD
TZOFFSETFROM:-0500
TZOFFSETTO:-0600
TZNAME:CST
DTSTART:20241103T070000
END:STANDARD
BEGIN:DAYLIGHT
TZOFFSETFROM:-0600
TZOFFSETTO:-0500
TZNAME:CDT
DTSTART:20250309T080000
END:DAYLIGHT
BEGIN:STANDARD
TZOFFSETFROM:-0500
TZOFFSETTO:-0600
TZNAME:CST
DTSTART:20251102T070000
END:STANDARD
END:VTIMEZONE
BEGIN:VEVENT
DTSTART;VALUE=DATE:20240505
DTEND;VALUE=DATE:20240506
DTSTAMP:20260424T122850
CREATED:20220720T184703Z
LAST-MODIFIED:20220720T184703Z
UID:5877-1714867200-1714953599@prairiewindseventcenter.com
SUMMARY:Holiday Pricing-Sunday Rental
DESCRIPTION:
URL:https://prairiewindseventcenter.com/event/holiday-pricing-sunday-rental-5-2024-05-05/
LOCATION:Prairie Winds Event Center\, 908 8th Street SE\, Orange City\, IA\, 51041\, United States
CATEGORIES:Holiday
END:VEVENT
BEGIN:VEVENT
DTSTART;VALUE=DATE:20240512
DTEND;VALUE=DATE:20240513
DTSTAMP:20260424T122850
CREATED:20220720T184703Z
LAST-MODIFIED:20220720T184703Z
UID:5878-1715472000-1715558399@prairiewindseventcenter.com
SUMMARY:Holiday Pricing-Sunday Rental
DESCRIPTION:
URL:https://prairiewindseventcenter.com/event/holiday-pricing-sunday-rental-5-2024-05-12/
LOCATION:Prairie Winds Event Center\, 908 8th Street SE\, Orange City\, IA\, 51041\, United States
CATEGORIES:Holiday
END:VEVENT
BEGIN:VEVENT
DTSTART;VALUE=DATE:20240519
DTEND;VALUE=DATE:20240520
DTSTAMP:20260424T122850
CREATED:20220720T184703Z
LAST-MODIFIED:20220720T184703Z
UID:5879-1716076800-1716163199@prairiewindseventcenter.com
SUMMARY:Holiday Pricing-Sunday Rental
DESCRIPTION:
URL:https://prairiewindseventcenter.com/event/holiday-pricing-sunday-rental-5-2024-05-19/
LOCATION:Prairie Winds Event Center\, 908 8th Street SE\, Orange City\, IA\, 51041\, United States
CATEGORIES:Holiday
END:VEVENT
BEGIN:VEVENT
DTSTART;VALUE=DATE:20240526
DTEND;VALUE=DATE:20240527
DTSTAMP:20260424T122850
CREATED:20220720T184703Z
LAST-MODIFIED:20220720T184703Z
UID:5880-1716681600-1716767999@prairiewindseventcenter.com
SUMMARY:Holiday Pricing-Sunday Rental
DESCRIPTION:
URL:https://prairiewindseventcenter.com/event/holiday-pricing-sunday-rental-5-2024-05-26/
LOCATION:Prairie Winds Event Center\, 908 8th Street SE\, Orange City\, IA\, 51041\, United States
CATEGORIES:Holiday
END:VEVENT
BEGIN:VEVENT
DTSTART;VALUE=DATE:20240527
DTEND;VALUE=DATE:20240528
DTSTAMP:20260424T122850
CREATED:20230530T160510Z
LAST-MODIFIED:20230530T160510Z
UID:6849-1716768000-1716854399@prairiewindseventcenter.com
SUMMARY:Date Unavailable
DESCRIPTION:
URL:https://prairiewindseventcenter.com/event/date-unavailable-25/
CATEGORIES:Holiday
END:VEVENT
END:VCALENDAR