BEGIN:VCALENDAR
VERSION:2.0
PRODID:-//Prairie Winds Event Center - ECPv6.15.20//NONSGML v1.0//EN
CALSCALE:GREGORIAN
METHOD:PUBLISH
X-WR-CALNAME:Prairie Winds Event Center
X-ORIGINAL-URL:https://prairiewindseventcenter.com
X-WR-CALDESC:Events for Prairie Winds Event Center
REFRESH-INTERVAL;VALUE=DURATION:PT1H
X-Robots-Tag:noindex
X-PUBLISHED-TTL:PT1H
BEGIN:VTIMEZONE
TZID:America/Chicago
BEGIN:DAYLIGHT
TZOFFSETFROM:-0600
TZOFFSETTO:-0500
TZNAME:CDT
DTSTART:20230312T080000
END:DAYLIGHT
BEGIN:STANDARD
TZOFFSETFROM:-0500
TZOFFSETTO:-0600
TZNAME:CST
DTSTART:20231105T070000
END:STANDARD
BEGIN:DAYLIGHT
TZOFFSETFROM:-0600
TZOFFSETTO:-0500
TZNAME:CDT
DTSTART:20240310T080000
END:DAYLIGHT
BEGIN:STANDARD
TZOFFSETFROM:-0500
TZOFFSETTO:-0600
TZNAME:CST
DTSTART:20241103T070000
END:STANDARD
BEGIN:DAYLIGHT
TZOFFSETFROM:-0600
TZOFFSETTO:-0500
TZNAME:CDT
DTSTART:20250309T080000
END:DAYLIGHT
BEGIN:STANDARD
TZOFFSETFROM:-0500
TZOFFSETTO:-0600
TZNAME:CST
DTSTART:20251102T070000
END:STANDARD
END:VTIMEZONE
BEGIN:VEVENT
DTSTART;VALUE=DATE:20240303
DTEND;VALUE=DATE:20240304
DTSTAMP:20260424T160254
CREATED:20220720T184703Z
LAST-MODIFIED:20220720T184703Z
UID:5868-1709424000-1709510399@prairiewindseventcenter.com
SUMMARY:Holiday Pricing-Sunday Rental
DESCRIPTION:
URL:https://prairiewindseventcenter.com/event/holiday-pricing-sunday-rental-5-2024-03-03/
LOCATION:Prairie Winds Event Center\, 908 8th Street SE\, Orange City\, IA\, 51041\, United States
CATEGORIES:Holiday
END:VEVENT
BEGIN:VEVENT
DTSTART;VALUE=DATE:20240310
DTEND;VALUE=DATE:20240311
DTSTAMP:20260424T160254
CREATED:20220720T184703Z
LAST-MODIFIED:20220720T184703Z
UID:5869-1710028800-1710115199@prairiewindseventcenter.com
SUMMARY:Holiday Pricing-Sunday Rental
DESCRIPTION:
URL:https://prairiewindseventcenter.com/event/holiday-pricing-sunday-rental-5-2024-03-10/
LOCATION:Prairie Winds Event Center\, 908 8th Street SE\, Orange City\, IA\, 51041\, United States
CATEGORIES:Holiday
END:VEVENT
BEGIN:VEVENT
DTSTART;VALUE=DATE:20240317
DTEND;VALUE=DATE:20240318
DTSTAMP:20260424T160254
CREATED:20220720T184703Z
LAST-MODIFIED:20220720T184703Z
UID:5870-1710633600-1710719999@prairiewindseventcenter.com
SUMMARY:Holiday Pricing-Sunday Rental
DESCRIPTION:
URL:https://prairiewindseventcenter.com/event/holiday-pricing-sunday-rental-5-2024-03-17/
LOCATION:Prairie Winds Event Center\, 908 8th Street SE\, Orange City\, IA\, 51041\, United States
CATEGORIES:Holiday
END:VEVENT
BEGIN:VEVENT
DTSTART;VALUE=DATE:20240324
DTEND;VALUE=DATE:20240325
DTSTAMP:20260424T160254
CREATED:20220720T184703Z
LAST-MODIFIED:20220720T184703Z
UID:5871-1711238400-1711324799@prairiewindseventcenter.com
SUMMARY:Holiday Pricing-Sunday Rental
DESCRIPTION:
URL:https://prairiewindseventcenter.com/event/holiday-pricing-sunday-rental-5-2024-03-24/
LOCATION:Prairie Winds Event Center\, 908 8th Street SE\, Orange City\, IA\, 51041\, United States
CATEGORIES:Holiday
END:VEVENT
BEGIN:VEVENT
DTSTART;VALUE=DATE:20240329
DTEND;VALUE=DATE:20240401
DTSTAMP:20260424T160254
CREATED:20220720T185355Z
LAST-MODIFIED:20220720T185355Z
UID:5897-1711670400-1711929599@prairiewindseventcenter.com
SUMMARY:Holiday Pricing-Easter Weekend
DESCRIPTION:
URL:https://prairiewindseventcenter.com/event/holiday-pricing-easter-weekend/
LOCATION:Prairie Winds Event Center\, 908 8th Street SE\, Orange City\, IA\, 51041\, United States
CATEGORIES:Holiday
END:VEVENT
BEGIN:VEVENT
DTSTART;VALUE=DATE:20240330
DTEND;VALUE=DATE:20240331
DTSTAMP:20260424T160254
CREATED:20230530T160155Z
LAST-MODIFIED:20230530T160155Z
UID:6837-1711756800-1711843199@prairiewindseventcenter.com
SUMMARY:Holiday Pricing
DESCRIPTION:
URL:https://prairiewindseventcenter.com/event/holiday-pricing/
CATEGORIES:Holiday
END:VEVENT
BEGIN:VEVENT
DTSTART;VALUE=DATE:20240331
DTEND;VALUE=DATE:20240401
DTSTAMP:20260424T160254
CREATED:20230530T160219Z
LAST-MODIFIED:20230530T160219Z
UID:6840-1711843200-1711929599@prairiewindseventcenter.com
SUMMARY:Date Unavailable
DESCRIPTION:
URL:https://prairiewindseventcenter.com/event/date-unavailable-24/
CATEGORIES:Holiday
END:VEVENT
BEGIN:VEVENT
DTSTART;VALUE=DATE:20240331
DTEND;VALUE=DATE:20240401
DTSTAMP:20260424T160254
CREATED:20220720T184703Z
LAST-MODIFIED:20220720T184703Z
UID:5872-1711843200-1711929599@prairiewindseventcenter.com
SUMMARY:Holiday Pricing-Sunday Rental
DESCRIPTION:
URL:https://prairiewindseventcenter.com/event/holiday-pricing-sunday-rental-5-2024-03-31/
LOCATION:Prairie Winds Event Center\, 908 8th Street SE\, Orange City\, IA\, 51041\, United States
CATEGORIES:Holiday
END:VEVENT
END:VCALENDAR