BEGIN:VCALENDAR
VERSION:2.0
PRODID:-//Prairie Winds Event Center - ECPv6.15.20//NONSGML v1.0//EN
CALSCALE:GREGORIAN
METHOD:PUBLISH
X-WR-CALNAME:Prairie Winds Event Center
X-ORIGINAL-URL:https://prairiewindseventcenter.com
X-WR-CALDESC:Events for Prairie Winds Event Center
REFRESH-INTERVAL;VALUE=DURATION:PT1H
X-Robots-Tag:noindex
X-PUBLISHED-TTL:PT1H
BEGIN:VTIMEZONE
TZID:America/Chicago
BEGIN:DAYLIGHT
TZOFFSETFROM:-0600
TZOFFSETTO:-0500
TZNAME:CDT
DTSTART:20250309T080000
END:DAYLIGHT
BEGIN:STANDARD
TZOFFSETFROM:-0500
TZOFFSETTO:-0600
TZNAME:CST
DTSTART:20251102T070000
END:STANDARD
BEGIN:DAYLIGHT
TZOFFSETFROM:-0600
TZOFFSETTO:-0500
TZNAME:CDT
DTSTART:20260308T080000
END:DAYLIGHT
BEGIN:STANDARD
TZOFFSETFROM:-0500
TZOFFSETTO:-0600
TZNAME:CST
DTSTART:20261101T070000
END:STANDARD
BEGIN:DAYLIGHT
TZOFFSETFROM:-0600
TZOFFSETTO:-0500
TZNAME:CDT
DTSTART:20270314T080000
END:DAYLIGHT
BEGIN:STANDARD
TZOFFSETFROM:-0500
TZOFFSETTO:-0600
TZNAME:CST
DTSTART:20271107T070000
END:STANDARD
END:VTIMEZONE
BEGIN:VEVENT
DTSTART;VALUE=DATE:20260427
DTEND;VALUE=DATE:20260429
DTSTAMP:20260424T064033
CREATED:20260403T151058Z
LAST-MODIFIED:20260403T151058Z
UID:9634-1777248000-1777420799@prairiewindseventcenter.com
SUMMARY:Diamond Vogel
DESCRIPTION:
URL:https://prairiewindseventcenter.com/event/diamond-vogel-6/
LOCATION:Prairie Winds Event Center
CATEGORIES:Business & Corporate
END:VEVENT
BEGIN:VEVENT
DTSTART;VALUE=DATE:20260429
DTEND;VALUE=DATE:20260430
DTSTAMP:20260424T064033
CREATED:20251028T181053Z
LAST-MODIFIED:20251028T181053Z
UID:9103-1777420800-1777507199@prairiewindseventcenter.com
SUMMARY:Kwik Star Training
DESCRIPTION:
URL:https://prairiewindseventcenter.com/event/kwik-star-training/
LOCATION:Prairie Winds Event Center\, 908 8th Street SE\, Orange City\, IA\, 51041\, United States
CATEGORIES:Business & Corporate
END:VEVENT
END:VCALENDAR