BEGIN:VCALENDAR
VERSION:2.0
PRODID:-//Prairie Winds Event Center - ECPv6.15.20//NONSGML v1.0//EN
CALSCALE:GREGORIAN
METHOD:PUBLISH
X-WR-CALNAME:Prairie Winds Event Center
X-ORIGINAL-URL:https://prairiewindseventcenter.com
X-WR-CALDESC:Events for Prairie Winds Event Center
REFRESH-INTERVAL;VALUE=DURATION:PT1H
X-Robots-Tag:noindex
X-PUBLISHED-TTL:PT1H
BEGIN:VTIMEZONE
TZID:America/Chicago
BEGIN:DAYLIGHT
TZOFFSETFROM:-0600
TZOFFSETTO:-0500
TZNAME:CDT
DTSTART:20250309T080000
END:DAYLIGHT
BEGIN:STANDARD
TZOFFSETFROM:-0500
TZOFFSETTO:-0600
TZNAME:CST
DTSTART:20251102T070000
END:STANDARD
BEGIN:DAYLIGHT
TZOFFSETFROM:-0600
TZOFFSETTO:-0500
TZNAME:CDT
DTSTART:20260308T080000
END:DAYLIGHT
BEGIN:STANDARD
TZOFFSETFROM:-0500
TZOFFSETTO:-0600
TZNAME:CST
DTSTART:20261101T070000
END:STANDARD
BEGIN:DAYLIGHT
TZOFFSETFROM:-0600
TZOFFSETTO:-0500
TZNAME:CDT
DTSTART:20270314T080000
END:DAYLIGHT
BEGIN:STANDARD
TZOFFSETFROM:-0500
TZOFFSETTO:-0600
TZNAME:CST
DTSTART:20271107T070000
END:STANDARD
END:VTIMEZONE
BEGIN:VEVENT
DTSTART;VALUE=DATE:20260212
DTEND;VALUE=DATE:20260213
DTSTAMP:20260424T081944
CREATED:20260114T183300Z
LAST-MODIFIED:20260116T151831Z
UID:9218-1770854400-1770940799@prairiewindseventcenter.com
SUMMARY:Terra Transitional Solutions Customer Meeting 2026
DESCRIPTION:
URL:https://prairiewindseventcenter.com/event/terra-transitional-solutions-customer-meeting-2026/
LOCATION:Prairie Winds Event Center
CATEGORIES:Business & Corporate
END:VEVENT
BEGIN:VEVENT
DTSTART;VALUE=DATE:20260224
DTEND;VALUE=DATE:20260227
DTSTAMP:20260424T081944
CREATED:20251007T140627Z
LAST-MODIFIED:20251007T140712Z
UID:9063-1771891200-1772150399@prairiewindseventcenter.com
SUMMARY:Diamond Vogel 2026 Industrial Sales Meeting
DESCRIPTION:
URL:https://prairiewindseventcenter.com/event/diamond-vogel-2026-industrial-sales-meeting/
LOCATION:Prairie Winds Event Center
CATEGORIES:Business & Corporate
END:VEVENT
END:VCALENDAR